Workbook

Sheet PRINCIPAL
B4: ESCOLHA O MÊS PARA ANALISAR
B12: COMO PREENCHER A PLANILHA
B14: 1 | D14: 2 | F14: 3 | H14: 4
B15: Preencha apenas os campos marcados em CINZA. | D15: Você deverá iniciar o preenchimento pela aba abaixo ORÇAMENTO PESSOAL, onde você terá a sua visão planejada para 1 ano. | F15: No preenchimento do campo investimentos, os valores deverão estar consolidados conforme suas metas. As aplicações são inseridas com sinal positivo e os resgates com sinal negativo. | H15: No balanço do mês, a sobra do mês anterior, corresponde a eventuais saldos em conta no último dia do mês, que não foram investidos.
B18: 5 | D18: 6 | F18: 7 | H18: 8
B19: No item Saldo de Investimentos, você terá o valor acumulado em cada um dos seus objetivos. Caso já possua algum valor investido para esses objetivos, deverá acrescentar o valor como RECEITAS e nos INVESTIMENTOS, do mês de início da planilha. | D19: Ao concluir o Orçamento Anual, você deverá selecionar o mês que será monitorado no MENU acima. Agora você já tem os limites estabelecidos para cada despesa. | F19: As abas de ACOMPANHAMENTO MENSAL, estão divididas conforme o mês, sendo possível já registrar nos meses subsequentes os gastos parcelados (Coluna Gasto Atual). | H19: Ao longo do mês, você preencherá a coluna Gasto Atual e poderá acompanhar quanto há disponível ao longo do mês em cada tipo de despesa.
B21: 9 | D21: 10 | F21: 11
B22: Ao finalizar o mês, o seu orçamento realizado, será composto pelos valores que constam na coluna Gasto Atual, você deverá então, levar essa visão do realizado para o seu ORÇAMENTO PESSOAL anual e realizar eventuais ajustes para o meses seguintes. | D22: Na aba DISTRIBUIÇÃO DO ORÇAMENTO você terá o cálculo do valor sugerido para sua reserva de emergência. Para essa conta foi considerado o seu custo de vida médio, com base no preenchimento dos 12 meses de despesas do seu ORÇAMENTO PESSOAL. | F22: Na aba DISTRIBUIÇÃO DO ORÇAMENTO você ainda terá como verificar a distribuição sugerida para o seu orçamento. Ela é preenchida no padrão 50/30/20, mas você poderá alterar com base nas sugestões, conforme faixas de renda sugeridas. Dessa forma, você terá uma referência para ajustar o seu ORÇAMENTO PESSOAL.

Sheet ORÇAMENTO PESSOAL
A1: Orçamento Pessoal
A2: Meses | E2: Janeiro | F2: Fevereiro | G2: Março | H2: Abril | I2: Maio | J2: Junho | K2: Julho | L2: Agosto | M2: Setembro | N2: Outubro | O2: Novembro | P2: Dezembro | Q2: Total Ano
E3: Valor | F3: Valor | G3: Valor | H3: Valor | I3: Valor | J3: Valor | K3: Valor | L3: Valor | M3: Valor | N3: Valor | O3: Valor | P3: Valor
A4: RECEITAS | D4: Salário | Q4: =SUM(E4:P4) -> 0
D5: Pró-labore | Q5: =SUM(E5:P5) -> 0
D6: Comissão | Q6: =SUM(E6:P6) -> 0
D7: Vale Refeição e Alimentação | Q7: =SUM(E7:P7) -> 0
D8: Bônus e Extras | Q8: =SUM(E8:P8) -> 0
D9: 13º Salário | Q9: =SUM(E9:P9) -> 0
D10: Férias | Q10: =SUM(E10:P10) -> 0
D11: Dividendos | Q11: =SUM(E11:P11) -> 0
D12: Aluguel | Q12: =SUM(E12:P12) -> 0
D13: Renda Extra | Q13: =SUM(E13:P13) -> 0
D14: Outros | Q14: =SUM(E14:P14) -> 0
D15: Total | E15: =SUM(E4:E14) -> 0 | F15: =SUM(F4:F14) -> 0 | G15: =SUM(G4:G14) -> 0 | H15: =SUM(H4:H14) -> 0 | I15: =SUM(I4:I14) -> 0 | J15: =SUM(J4:J14) -> 0 | K15: =SUM(K4:K14) -> 0 | L15: =SUM(L4:L14) -> 0 | ... P15: =SUM(P4:P14) -> 0 | Q15: =SUM(E15:P15) -> 0
A17: INVESTIMENTOS Insira aqui o montante mensal que você destinará aos seus investimentos | D17: Meta 1 | Q17: =SUM(E17:P17) -> 0
D18: Meta 2 | Q18: =SUM(E18:P18) -> 0
D19: Reserva de Emergência | Q19: =SUM(E19:P19) -> 0
D20: Aposentadoria/ Independência Financeira | Q20: =SUM(E20:P20) -> 0
D21: Outros | Q21: =SUM(E21:P21) -> 0
D22: Total | E22: =SUM(E17:E21) -> 0 | F22: =SUM(F17:F21) -> 0 | G22: =SUM(G17:G21) -> 0 | H22: =SUM(H17:H21) -> 0 | I22: =SUM(I17:I21) -> 0 | J22: =SUM(J17:J21) -> 0 | K22: =SUM(K17:K21) -> 0 | L22: =SUM(L17:L21) -> 0 | ... Q22: =SUM(Q17:Q21) -> 0
D23: % sobre Receita | E23: =E22/E15 -> #DIV/0! | F23: =F22/F15 -> #DIV/0! | G23: =G22/G15 -> #DIV/0! | H23: =H22/H15 -> #DIV/0! | I23: =I22/I15 -> #DIV/0! | J23: =J22/J15 -> #DIV/0! | K23: =K22/K15 -> #DIV/0! | L23: =L22/L15 -> #DIV/0! | ... Q23: =Q22/Q15 -> #DIV/0!
A25: NECESSIDADES / ESSENCIAIS | B25: DESPESAS FIXAS Aquelas que têm o mesmo valor mensalmente. e DESPESAS VARIÁVEIS Aquelas que acontecem todos os meses, podem variar de valor e podemos tentar reduzir. | C25: Habitação | D25: Aluguel | Q25: =SUM(E25:P25) -> 0
D26: Condomínio | Q26: =SUM(E26:P26) -> 0
D27: Prestação da Casa | Q27: =SUM(E27:P27) -> 0
D28: Diarista/Mensalista | Q28: =SUM(E28:P28) -> 0
D29: Luz | Q29: =SUM(E29:P29) -> 0
D30: Água | Q30: =SUM(E30:P30) -> 0
D31: Telefone | Q31: =SUM(E31:P31) -> 0
D32: Gás | Q32: =SUM(E32:P32) -> 0
D33: Internet | Q33: =SUM(E33:P33) -> 0
D34: Outros | Q34: =SUM(E34:P34) -> 0
C35: Transporte | D35: Prestação do Carro | Q35: =SUM(E35:P35) -> 0
D36: Seguro do Carro | Q36: =SUM(E36:P36) -> 0
D37: Combustível | Q37: =SUM(E37:P37) -> 0
D38: Metrô/Ônibus | Q38: =SUM(E38:P38) -> 0
D39: Taxi/Uber | Q39: =SUM(E39:P39) -> 0
D40: Estacionamento | Q40: =SUM(E40:P40) -> 0
D41: Outros | Q41: =SUM(E41:P41) -> 0
C42: Saúde | D42: Plano de Saúde | Q42: =SUM(E42:P42) -> 0
...

Sheet DISTRIBUIÇÃO DO ORÇAMENTO
A1: Distribuição do Orçamento
D2: Distribuição do Orçamento | Q2: Sugestões de Distribuição por Faixa de Renda
A3: Renda Líquida (Mensal)
Q4: Renda de R$ 1.500 | R4: % | S4: R$
A5: Categorias | B5: % | C5: R$ | Q5: Necessidades | R5: 0.7 | S5: =$B$3*R5 -> 0
A6: Necessidades | B6: 0.5 | C6: =$B$3*B6 -> 0 | Q6: Vontades | R6: 0.15 | S6: =$B$3*R6 -> 0
A7: Vontades | B7: 0.3 | C7: =$B$3*B7 -> 0 | Q7: Metas (Médio e Longo Prazo) | R7: 0.05 | S7: =$B$3*R7 -> 0
A8: Metas (Médio e Longo Prazo) | B8: 0.05 | C8: =$B$3*B8 -> 0 | Q8: Reserva de Emergência | R8: 0.05 | S8: =$B$3*R8 -> 0
A9: Reserva de Emergência | B9: 0.05 | C9: =$B$3*B9 -> 0 | Q9: Aposentadoria/Independência Financeira | R9: 0.05 | S9: =$B$3*R9 -> 0
A10: Aposentadoria/Independência Financeira | B10: 0.1 | C10: =$B$3*B10 -> 0 | R10: =SUM(R5:R9) -> 1 | S10: =SUM(S5:S9) -> 0
B11: =SUM(B6:B10) -> 1 | C11: =SUM(C6:C10) -> 0
Q12: Renda de R$ 2.500 | R12: % | S12: R$
A13: Reserva de Emergência Sugerida | B13: Custo de Vida | C13: Valor da Reserva | Q13: Necessidades | R13: 0.65 | S13: =$B$3*R13 -> 0
A14: CLT | B14: =('ORÇAMENTO PESSOAL'!Q72+'ORÇAMENTO PESSOAL'!Q93)/12 -> 0 | C14: =B14*6 -> 0 | Q14: Vontades | R14: 0.2 | S14: =$B$3*R14 -> 0
A15: Autônomo | B15: =('ORÇAMENTO PESSOAL'!Q72+'ORÇAMENTO PESSOAL'!Q93)/12 -> 0 | C15: =B15*12 -> 0 | Q15: Metas (Médio e Longo Prazo) | R15: 0.05 | S15: =$B$3*R15 -> 0
Q16: Reserva de Emergência | R16: 0.05 | S16: =$B$3*R16 -> 0
Q17: Aposentadoria/Independência Financeira | R17: 0.05 | S17: =$B$3*R17 -> 0
R18: =SUM(R13:R17) -> 1 | S18: =SUM(S13:S17) -> 0
Q20: Renda de R$ 3.000 | R20: % | S20: R$
Q21: Necessidades | R21: 0.6 | S21: =$B$3*R21 -> 0
Q22: Vontades | R22: 0.25 | S22: =$B$3*R22 -> 0
Q23: Metas (Médio e Longo Prazo) | R23: 0.05 | S23: =$B$3*R23 -> 0
Q24: Reserva de Emergência | R24: 0.05 | S24: =$B$3*R24 -> 0
Q25: Aposentadoria/Independência Financeira | R25: 0.05 | S25: =$B$3*R25 -> 0
R26: =SUM(R21:R25) -> 1 | S26: =SUM(S21:S25) -> 0
Q28: Renda de R$ 4.000 | R28: % | S28: R$
Q29: Necessidades | R29: 0.55 | S29: =$B$3*R29 -> 0
Q30: Vontades | R30: 0.25 | S30: =$B$3*R30 -> 0
Q31: Metas (Médio e Longo Prazo) | R31: 0.1 | S31: =$B$3*R31 -> 0
Q32: Reserva de Emergência | R32: 0.05 | S32: =$B$3*R32 -> 0
Q33: Aposentadoria/Independência Financeira | R33: 0.05 | S33: =$B$3*R33 -> 0
R34: =SUM(R29:R33) -> 1 | S34: =SUM(S29:S33) -> 0
Q36: Renda de R$ 5.000 | R36: % | S36: R$
Q37: Necessidades | R37: 0.5 | S37: =$B$3*R37 -> 0
Q38: Vontades | R38: 0.3 | S38: =$B$3*R38 -> 0
Q39: Metas (Médio e Longo Prazo) | R39: 0.1 | S39: =$B$3*R39 -> 0
Q40: Reserva de Emergência | R40: 0.05 | S40: =$B$3*R40 -> 0
Q41: Aposentadoria/Independência Financeira | R41: 0.05 | S41: =$B$3*R41 -> 0
R42: =SUM(R37:R41) -> 1 | S42: =SUM(S37:S41) -> 0

Sheet JANEIRO
A1: Acompanhamento Mensal
C2: JANEIRO | E2: Orçamento Previsto | F2: Gasto Atual | G2: Disponível | I2: RESUMO | K2: Orçamento Previsto | L2: Gasto Atual | M2: Disponível
A3: INVESTIMENTOS Insira aqui o montante mensal que você destinará aos seus investimentos. | D3: Meta 1 | E3: =HLOOKUP($C$2,'ORÇAMENTO PESSOAL'!$E$2:$P$92,16,FALSE) -> 0 | G3: =E3-F3 -> 0 | I3: Necessidades | K3: =E57 -> 0 | L3: =F57 -> 0 | M3: =K3-L3 -> 0
D4: Meta 2 | E4: =HLOOKUP($C$2,'ORÇAMENTO PESSOAL'!$E$2:$P$92,17,FALSE) -> 0 | G4: =E4-F4 -> 0 | I4: Vontades | K4: =E77 -> 0 | L4: =F77 -> 0 | M4: =K4-L4 -> 0
D5: Reserva de Emergência | E5: =HLOOKUP($C$2,'ORÇAMENTO PESSOAL'!$E$2:$P$92,18,FALSE) -> 0 | G5: =E5-F5 -> 0 | I5: Metas (Médio e Longo Prazo) | K5: =E3+E4+E7 -> 0 | L5: =F3+F4+F7 -> 0 | M5: =K5-L5 -> 0
D6: Aposentadoria/Independência Financeira | E6: =HLOOKUP($C$2,'ORÇAMENTO PESSOAL'!$E$2:$P$92,19,FALSE) -> 0 | G6: =E6-F6 -> 0 | I6: Reserva de Emergência | K6: =E5 -> 0 | L6: =F5 -> 0 | M6: =K6-L6 -> 0
D7: Outros | E7: =HLOOKUP($C$2,'ORÇAMENTO PESSOAL'!$E$2:$P$92,20,FALSE) -> 0 | G7: =E7-F7 -> 0 | I7: Aposentadoria/Independência Fin. | K7: =E6 -> 0 | L7: =F6 -> 0 | M7: =K7-L7 -> 0
D8: Total | E8: =SUM(E3:E7) -> 0 | F8: =SUM(F3:F7) -> 0 | G8: =SUM(G3:G7) -> 0 | I8: Total | K8: =SUM(K3:K7) -> 0 | L8: =SUM(L3:L7) -> 0 | M8: =K8-L8 -> 0
A10: NECESSIDADES / ESSENCIAIS | B10: DESPESAS FIXAS Aquelas que têm o mesmo valor mensalmente. e DESPESAS VARIÁVEIS Aquelas que acontecem todos os meses, podem variar de valor e podemos tentar reduzir. | C10: Habitação | D10: Aluguel | E10: =HLOOKUP($C$2,'ORÇAMENTO PESSOAL'!$E$2:$P$92,24,FALSE) -> 0 | G10: =E10-F10 -> 0
D11: Condomínio | E11: =HLOOKUP($C$2,'ORÇAMENTO PESSOAL'!$E$2:$P$92,25,FALSE) -> 0 | G11: =E11-F11 -> 0
D12: Prestação da Casa | E12: =HLOOKUP($C$2,'ORÇAMENTO PESSOAL'!$E$2:$P$92,26,FALSE) -> 0 | G12: =E12-F12 -> 0
D13: Diarista/Mensalista | E13: =HLOOKUP($C$2,'ORÇAMENTO PESSOAL'!$E$2:$P$92,27,FALSE) -> 0 | G13: =E13-F13 -> 0
D14: Luz | E14: =HLOOKUP($C$2,'ORÇAMENTO PESSOAL'!$E$2:$P$92,28,FALSE) -> 0 | G14: =E14-F14 -> 0
D15: Água | E15: =HLOOKUP($C$2,'ORÇAMENTO PESSOAL'!$E$2:$P$92,29,FALSE) -> 0 | G15: =E15-F15 -> 0
D16: Telefone | E16: =HLOOKUP($C$2,'ORÇAMENTO PESSOAL'!$E$2:$P$92,30,FALSE) -> 0 | G16: =E16-F16 -> 0
D17: Gás | E17: =HLOOKUP($C$2,'ORÇAMENTO PESSOAL'!$E$2:$P$92,31,FALSE) -> 0 | G17: =E17-F17 -> 0
D18: Internet | E18: =HLOOKUP($C$2,'ORÇAMENTO PESSOAL'!$E$2:$P$92,32,FALSE) -> 0 | G18: =E18-F18 -> 0
D19: Outros | E19: =HLOOKUP($C$2,'ORÇAMENTO PESSOAL'!$E$2:$P$92,33,FALSE) -> 0 | G19: =E19-F19 -> 0
C20: Transporte | D20: Prestação do Carro | E20: =HLOOKUP($C$2,'ORÇAMENTO PESSOAL'!$E$2:$P$92,34,FALSE) -> 0 | G20: =E20-F20 -> 0
D21: Seguro do Carro | E21: =HLOOKUP($C$2,'ORÇAMENTO PESSOAL'!$E$2:$P$92,35,FALSE) -> 0 | G21: =E21-F21 -> 0
D22: Combustível | E22: =HLOOKUP($C$2,'ORÇAMENTO PESSOAL'!$E$2:$P$92,36,FALSE) -> 0 | G22: =E22-F22 -> 0
D23: Metrô/Ônibus | E23: =HLOOKUP($C$2,'ORÇAMENTO PESSOAL'!$E$2:$P$92,37,FALSE) -> 0 | G23: =E23-F23 -> 0
D24: Taxi/Uber | E24: =HLOOKUP($C$2,'ORÇAMENTO PESSOAL'!$E$2:$P$92,38,FALSE) -> 0 | G24: =E24-F24 -> 0
D25: Estacionamento | E25: =HLOOKUP($C$2,'ORÇAMENTO PESSOAL'!$E$2:$P$92,39,FALSE) -> 0 | G25: =E25-F25 -> 0
D26: Outros | E26: =HLOOKUP($C$2,'ORÇAMENTO PESSOAL'!$E$2:$P$92,40,FALSE) -> 0 | G26: =E26-F26 -> 0
C27: Saúde | D27: Plano de Saúde | E27: =HLOOKUP($C$2,'ORÇAMENTO PESSOAL'!$E$2:$P$92,41,FALSE) -> 0 | G27: =E27-F27 -> 0
D28: Medicamentos | E28: =HLOOKUP($C$2,'ORÇAMENTO PESSOAL'!$E$2:$P$92,42,FALSE) -> 0 | G28: =E28-F28 -> 0
D29: Outros | E29: =HLOOKUP($C$2,'ORÇAMENTO PESSOAL'!$E$2:$P$92,43,FALSE) -> 0 | G29: =E29-F29 -> 0
C30: Alimentação | D30: Supermercado | E30: =HLOOKUP($C$2,'ORÇAMENTO PESSOAL'!$E$2:$P$92,44,FALSE) -> 0 | G30: =E30-F30 -> 0
D31: Feira | E31: =HLOOKUP($C$2,'ORÇAMENTO PESSOAL'!$E$2:$P$92,45,FALSE) -> 0 | G31: =E31-F31 -> 0
D32: Padaria | E32: =HLOOKUP($C$2,'ORÇAMENTO PESSOAL'!$E$2:$P$92,46,FALSE) -> 0 | G32: =E32-F32 -> 0
D33: Outros | E33: =HLOOKUP($C$2,'ORÇAMENTO PESSOAL'!$E$2:$P$92,47,FALSE) -> 0 | G33: =E33-F33 -> 0
C34: Educação | D34: Mensalidade | E34: =HLOOKUP($C$2,'ORÇAMENTO PESSOAL'!$E$2:$P$92,48,FALSE) -> 0 | G34: =E34-F34 -> 0
D35: Transporte Escolar | E35: =HLOOKUP($C$2,'ORÇAMENTO PESSOAL'!$E$2:$P$92,49,FALSE) -> 0 | G35: =E35-F35 -> 0
D36: Outros | E36: =HLOOKUP($C$2,'ORÇAMENTO PESSOAL'!$E$2:$P$92,50,FALSE) -> 0 | G36: =E36-F36 -> 0
C37: Animais de Estimação | D37: Ração | E37: =HLOOKUP($C$2,'ORÇAMENTO PESSOAL'!$E$2:$P$92,51,FALSE) -> 0 | G37: =E37-F37 -> 0
D38: Banho/Tosa | E38: =HLOOKUP($C$2,'ORÇAMENTO PESSOAL'!$E$2:$P$92,52,FALSE) -> 0 | G38: =E38-F38 -> 0
D39: Veterinário/Plano Pet | E39: =HLOOKUP($C$2,'ORÇAMENTO PESSOAL'!$E$2:$P$92,53,FALSE) -> 0 | G39: =E39-F39 -> 0
C40: Outros | D40: Seguro de Vida | E40: =HLOOKUP($C$2,'ORÇAMENTO PESSOAL'!$E$2:$P$92,54,FALSE) -> 0 | G40: =E40-F40 -> 0
D41: Tarifas Bancárias | E41: =HLOOKUP($C$2,'ORÇAMENTO PESSOAL'!$E$2:$P$92,55,FALSE) -> 0 | G41: =E41-F41 -> 0
...

Sheet FEVEREIRO
A1: Acompanhamento Mensal
C2: FEVEREIRO | E2: Orçamento Previsto | F2: Gasto Atual | G2: Disponível | I2: RESUMO | K2: Orçamento Previsto | L2: Gasto Atual | M2: Disponível
A3: INVESTIMENTOS Insira aqui o montante mensal que você destinará aos seus investimentos. | D3: Meta 1 | E3: =HLOOKUP($C$2,'ORÇAMENTO PESSOAL'!$E$2:$P$92,16,FALSE) -> 0 | G3: =E3-F3 -> 0 | I3: Necessidades | K3: =E57 -> 0 | L3: =F57 -> 0 | M3: =K3-L3 -> 0
D4: Meta 2 | E4: =HLOOKUP($C$2,'ORÇAMENTO PESSOAL'!$E$2:$P$92,17,FALSE) -> 0 | G4: =E4-F4 -> 0 | I4: Vontades | K4: =E77 -> 0 | L4: =F77 -> 0 | M4: =K4-L4 -> 0
D5: Reserva de Emergência | E5: =HLOOKUP($C$2,'ORÇAMENTO PESSOAL'!$E$2:$P$92,18,FALSE) -> 0 | G5: =E5-F5 -> 0 | I5: Metas (Médio e Longo Prazo) | K5: =E3+E4+E7 -> 0 | L5: =F3+F4+F7 -> 0 | M5: =K5-L5 -> 0
D6: Aposentadoria/Independência Financeira | E6: =HLOOKUP($C$2,'ORÇAMENTO PESSOAL'!$E$2:$P$92,19,FALSE) -> 0 | G6: =E6-F6 -> 0 | I6: Reserva de Emergência | K6: =E5 -> 0 | L6: =F5 -> 0 | M6: =K6-L6 -> 0
D7: Outros | E7: =HLOOKUP($C$2,'ORÇAMENTO PESSOAL'!$E$2:$P$92,20,FALSE) -> 0 | G7: =E7-F7 -> 0 | I7: Aposentadoria/Independência Fin. | K7: =E6 -> 0 | L7: =F6 -> 0 | M7: =K7-L7 -> 0
D8: Total | E8: =SUM(E3:E7) -> 0 | F8: =SUM(F3:F7) -> 0 | G8: =SUM(G3:G7) -> 0 | I8: Total | K8: =SUM(K3:K7) -> 0 | L8: =SUM(L3:L7) -> 0 | M8: =K8-L8 -> 0
A10: NECESSIDADES / ESSENCIAIS | B10: DESPESAS FIXAS Aquelas que têm o mesmo valor mensalmente. e DESPESAS VARIÁVEIS Aquelas que acontecem todos os meses, podem variar de valor e podemos tentar reduzir. | C10: Habitação | D10: Aluguel | E10: =HLOOKUP($C$2,'ORÇAMENTO PESSOAL'!$E$2:$P$92,24,FALSE) -> 0 | G10: =E10-F10 -> 0
D11: Condomínio | E11: =HLOOKUP($C$2,'ORÇAMENTO PESSOAL'!$E$2:$P$92,25,FALSE) -> 0 | G11: =E11-F11 -> 0
D12: Prestação da Casa | E12: =HLOOKUP($C$2,'ORÇAMENTO PESSOAL'!$E$2:$P$92,26,FALSE) -> 0 | G12: =E12-F12 -> 0
D13: Diarista/Mensalista | E13: =HLOOKUP($C$2,'ORÇAMENTO PESSOAL'!$E$2:$P$92,27,FALSE) -> 0 | G13: =E13-F13 -> 0
D14: Luz | E14: =HLOOKUP($C$2,'ORÇAMENTO PESSOAL'!$E$2:$P$92,28,FALSE) -> 0 | G14: =E14-F14 -> 0
D15: Água | E15: =HLOOKUP($C$2,'ORÇAMENTO PESSOAL'!$E$2:$P$92,29,FALSE) -> 0 | G15: =E15-F15 -> 0
D16: Telefone | E16: =HLOOKUP($C$2,'ORÇAMENTO PESSOAL'!$E$2:$P$92,30,FALSE) -> 0 | G16: =E16-F16 -> 0
D17: Gás | E17: =HLOOKUP($C$2,'ORÇAMENTO PESSOAL'!$E$2:$P$92,31,FALSE) -> 0 | G17: =E17-F17 -> 0
D18: Internet | E18: =HLOOKUP($C$2,'ORÇAMENTO PESSOAL'!$E$2:$P$92,32,FALSE) -> 0 | G18: =E18-F18 -> 0
D19: Outros | E19: =HLOOKUP($C$2,'ORÇAMENTO PESSOAL'!$E$2:$P$92,33,FALSE) -> 0 | G19: =E19-F19 -> 0
C20: Transporte | D20: Prestação do Carro | E20: =HLOOKUP($C$2,'ORÇAMENTO PESSOAL'!$E$2:$P$92,34,FALSE) -> 0 | G20: =E20-F20 -> 0
D21: Seguro do Carro | E21: =HLOOKUP($C$2,'ORÇAMENTO PESSOAL'!$E$2:$P$92,35,FALSE) -> 0 | G21: =E21-F21 -> 0
D22: Combustível | E22: =HLOOKUP($C$2,'ORÇAMENTO PESSOAL'!$E$2:$P$92,36,FALSE) -> 0 | G22: =E22-F22 -> 0
D23: Metrô/Ônibus | E23: =HLOOKUP($C$2,'ORÇAMENTO PESSOAL'!$E$2:$P$92,37,FALSE) -> 0 | G23: =E23-F23 -> 0
D24: Taxi/Uber | E24: =HLOOKUP($C$2,'ORÇAMENTO PESSOAL'!$E$2:$P$92,38,FALSE) -> 0 | G24: =E24-F24 -> 0
D25: Estacionamento | E25: =HLOOKUP($C$2,'ORÇAMENTO PESSOAL'!$E$2:$P$92,39,FALSE) -> 0 | G25: =E25-F25 -> 0
D26: Outros | E26: =HLOOKUP($C$2,'ORÇAMENTO PESSOAL'!$E$2:$P$92,40,FALSE) -> 0 | G26: =E26-F26 -> 0
C27: Saúde | D27: Plano de Saúde | E27: =HLOOKUP($C$2,'ORÇAMENTO PESSOAL'!$E$2:$P$92,41,FALSE) -> 0 | G27: =E27-F27 -> 0
D28: Medicamentos | E28: =HLOOKUP($C$2,'ORÇAMENTO PESSOAL'!$E$2:$P$92,42,FALSE) -> 0 | G28: =E28-F28 -> 0
D29: Outros | E29: =HLOOKUP($C$2,'ORÇAMENTO PESSOAL'!$E$2:$P$92,43,FALSE) -> 0 | G29: =E29-F29 -> 0
C30: Alimentação | D30: Supermercado | E30: =HLOOKUP($C$2,'ORÇAMENTO PESSOAL'!$E$2:$P$92,44,FALSE) -> 0 | G30: =E30-F30 -> 0
D31: Feira | E31: =HLOOKUP($C$2,'ORÇAMENTO PESSOAL'!$E$2:$P$92,45,FALSE) -> 0 | G31: =E31-F31 -> 0
D32: Padaria | E32: =HLOOKUP($C$2,'ORÇAMENTO PESSOAL'!$E$2:$P$92,46,FALSE) -> 0 | G32: =E32-F32 -> 0
D33: Outros | E33: =HLOOKUP($C$2,'ORÇAMENTO PESSOAL'!$E$2:$P$92,47,FALSE) -> 0 | G33: =E33-F33 -> 0
C34: Educação | D34: Mensalidade | E34: =HLOOKUP($C$2,'ORÇAMENTO PESSOAL'!$E$2:$P$92,48,FALSE) -> 0 | G34: =E34-F34 -> 0
D35: Transporte Escolar | E35: =HLOOKUP($C$2,'ORÇAMENTO PESSOAL'!$E$2:$P$92,49,FALSE) -> 0 | G35: =E35-F35 -> 0
D36: Outros | E36: =HLOOKUP($C$2,'ORÇAMENTO PESSOAL'!$E$2:$P$92,50,FALSE) -> 0 | G36: =E36-F36 -> 0
C37: Animais de Estimação | D37: Ração | E37: =HLOOKUP($C$2,'ORÇAMENTO PESSOAL'!$E$2:$P$92,51,FALSE) -> 0 | G37: =E37-F37 -> 0
D38: Banho/Tosa | E38: =HLOOKUP($C$2,'ORÇAMENTO PESSOAL'!$E$2:$P$92,52,FALSE) -> 0 | G38: =E38-F38 -> 0
D39: Veterinário/Plano Pet | E39: =HLOOKUP($C$2,'ORÇAMENTO PESSOAL'!$E$2:$P$92,53,FALSE) -> 0 | G39: =E39-F39 -> 0
C40: Outros | D40: Seguro de Vida | E40: =HLOOKUP($C$2,'ORÇAMENTO PESSOAL'!$E$2:$P$92,54,FALSE) -> 0 | G40: =E40-F40 -> 0
D41: Tarifas Bancárias | E41: =HLOOKUP($C$2,'ORÇAMENTO PESSOAL'!$E$2:$P$92,55,FALSE) -> 0 | G41: =E41-F41 -> 0
...

Sheet MARÇO 
A1: Acompanhamento Mensal
C2: MARÇO | E2: Orçamento Previsto | F2: Gasto Atual | G2: Disponível | I2: RESUMO | K2: Orçamento Previsto | L2: Gasto Atual | M2: Disponível
A3: INVESTIMENTOS Insira aqui o montante mensal que você destinará aos seus investimentos. | D3: Meta 1 | E3: =HLOOKUP($C$2,'ORÇAMENTO PESSOAL'!$E$2:$P$92,16,FALSE) -> 0 | G3: =E3-F3 -> 0 | I3: Necessidades | K3: =E57 -> 0 | L3: =F57 -> 0 | M3: =K3-L3 -> 0
D4: Meta 2 | E4: =HLOOKUP($C$2,'ORÇAMENTO PESSOAL'!$E$2:$P$92,17,FALSE) -> 0 | G4: =E4-F4 -> 0 | I4: Vontades | K4: =E77 -> 0 | L4: =F77 -> 0 | M4: =K4-L4 -> 0
D5: Reserva de Emergência | E5: =HLOOKUP($C$2,'ORÇAMENTO PESSOAL'!$E$2:$P$92,18,FALSE) -> 0 | G5: =E5-F5 -> 0 | I5: Metas (Médio e Longo Prazo) | K5: =E3+E4+E7 -> 0 | L5: =F3+F4+F7 -> 0 | M5: =K5-L5 -> 0
D6: Aposentadoria/Independência Financeira | E6: =HLOOKUP($C$2,'ORÇAMENTO PESSOAL'!$E$2:$P$92,19,FALSE) -> 0 | G6: =E6-F6 -> 0 | I6: Reserva de Emergência | K6: =E5 -> 0 | L6: =F5 -> 0 | M6: =K6-L6 -> 0
D7: Outros | E7: =HLOOKUP($C$2,'ORÇAMENTO PESSOAL'!$E$2:$P$92,20,FALSE) -> 0 | G7: =E7-F7 -> 0 | I7: Aposentadoria/Independência Fin. | K7: =E6 -> 0 | L7: =F6 -> 0 | M7: =K7-L7 -> 0
D8: Total | E8: =SUM(E3:E7) -> 0 | F8: =SUM(F3:F7) -> 0 | G8: =SUM(G3:G7) -> 0 | I8: Total | K8: =SUM(K3:K7) -> 0 | L8: =SUM(L3:L7) -> 0 | M8: =K8-L8 -> 0
A10: NECESSIDADES / ESSENCIAIS | B10: DESPESAS FIXAS Aquelas que têm o mesmo valor mensalmente. e DESPESAS VARIÁVEIS Aquelas que acontecem todos os meses, podem variar de valor e podemos tentar reduzir. | C10: Habitação | D10: Aluguel | E10: =HLOOKUP($C$2,'ORÇAMENTO PESSOAL'!$E$2:$P$92,24,FALSE) -> 0 | G10: =E10-F10 -> 0
D11: Condomínio | E11: =HLOOKUP($C$2,'ORÇAMENTO PESSOAL'!$E$2:$P$92,25,FALSE) -> 0 | G11: =E11-F11 -> 0
D12: Prestação da Casa | E12: =HLOOKUP($C$2,'ORÇAMENTO PESSOAL'!$E$2:$P$92,26,FALSE) -> 0 | G12: =E12-F12 -> 0
D13: Diarista/Mensalista | E13: =HLOOKUP($C$2,'ORÇAMENTO PESSOAL'!$E$2:$P$92,27,FALSE) -> 0 | G13: =E13-F13 -> 0
D14: Luz | E14: =HLOOKUP($C$2,'ORÇAMENTO PESSOAL'!$E$2:$P$92,28,FALSE) -> 0 | G14: =E14-F14 -> 0
D15: Água | E15: =HLOOKUP($C$2,'ORÇAMENTO PESSOAL'!$E$2:$P$92,29,FALSE) -> 0 | G15: =E15-F15 -> 0
D16: Telefone | E16: =HLOOKUP($C$2,'ORÇAMENTO PESSOAL'!$E$2:$P$92,30,FALSE) -> 0 | G16: =E16-F16 -> 0
D17: Gás | E17: =HLOOKUP($C$2,'ORÇAMENTO PESSOAL'!$E$2:$P$92,31,FALSE) -> 0 | G17: =E17-F17 -> 0
D18: Internet | E18: =HLOOKUP($C$2,'ORÇAMENTO PESSOAL'!$E$2:$P$92,32,FALSE) -> 0 | G18: =E18-F18 -> 0
D19: Outros | E19: =HLOOKUP($C$2,'ORÇAMENTO PESSOAL'!$E$2:$P$92,33,FALSE) -> 0 | G19: =E19-F19 -> 0
C20: Transporte | D20: Prestação do Carro | E20: =HLOOKUP($C$2,'ORÇAMENTO PESSOAL'!$E$2:$P$92,34,FALSE) -> 0 | G20: =E20-F20 -> 0
D21: Seguro do Carro | E21: =HLOOKUP($C$2,'ORÇAMENTO PESSOAL'!$E$2:$P$92,35,FALSE) -> 0 | G21: =E21-F21 -> 0
D22: Combustível | E22: =HLOOKUP($C$2,'ORÇAMENTO PESSOAL'!$E$2:$P$92,36,FALSE) -> 0 | G22: =E22-F22 -> 0
D23: Metrô/Ônibus | E23: =HLOOKUP($C$2,'ORÇAMENTO PESSOAL'!$E$2:$P$92,37,FALSE) -> 0 | G23: =E23-F23 -> 0
D24: Taxi/Uber | E24: =HLOOKUP($C$2,'ORÇAMENTO PESSOAL'!$E$2:$P$92,38,FALSE) -> 0 | G24: =E24-F24 -> 0
D25: Estacionamento | E25: =HLOOKUP($C$2,'ORÇAMENTO PESSOAL'!$E$2:$P$92,39,FALSE) -> 0 | G25: =E25-F25 -> 0
D26: Outros | E26: =HLOOKUP($C$2,'ORÇAMENTO PESSOAL'!$E$2:$P$92,40,FALSE) -> 0 | G26: =E26-F26 -> 0
C27: Saúde | D27: Plano de Saúde | E27: =HLOOKUP($C$2,'ORÇAMENTO PESSOAL'!$E$2:$P$92,41,FALSE) -> 0 | G27: =E27-F27 -> 0
D28: Medicamentos | E28: =HLOOKUP($C$2,'ORÇAMENTO PESSOAL'!$E$2:$P$92,42,FALSE) -> 0 | G28: =E28-F28 -> 0
D29: Outros | E29: =HLOOKUP($C$2,'ORÇAMENTO PESSOAL'!$E$2:$P$92,43,FALSE) -> 0 | G29: =E29-F29 -> 0
C30: Alimentação | D30: Supermercado | E30: =HLOOKUP($C$2,'ORÇAMENTO PESSOAL'!$E$2:$P$92,44,FALSE) -> 0 | G30: =E30-F30 -> 0
D31: Feira | E31: =HLOOKUP($C$2,'ORÇAMENTO PESSOAL'!$E$2:$P$92,45,FALSE) -> 0 | G31: =E31-F31 -> 0
D32: Padaria | E32: =HLOOKUP($C$2,'ORÇAMENTO PESSOAL'!$E$2:$P$92,46,FALSE) -> 0 | G32: =E32-F32 -> 0
D33: Outros | E33: =HLOOKUP($C$2,'ORÇAMENTO PESSOAL'!$E$2:$P$92,47,FALSE) -> 0 | G33: =E33-F33 -> 0
C34: Educação | D34: Mensalidade | E34: =HLOOKUP($C$2,'ORÇAMENTO PESSOAL'!$E$2:$P$92,48,FALSE) -> 0 | G34: =E34-F34 -> 0
D35: Transporte Escolar | E35: =HLOOKUP($C$2,'ORÇAMENTO PESSOAL'!$E$2:$P$92,49,FALSE) -> 0 | G35: =E35-F35 -> 0
D36: Outros | E36: =HLOOKUP($C$2,'ORÇAMENTO PESSOAL'!$E$2:$P$92,50,FALSE) -> 0 | G36: =E36-F36 -> 0
C37: Animais de Estimação | D37: Ração | E37: =HLOOKUP($C$2,'ORÇAMENTO PESSOAL'!$E$2:$P$92,51,FALSE) -> 0 | G37: =E37-F37 -> 0
D38: Banho/Tosa | E38: =HLOOKUP($C$2,'ORÇAMENTO PESSOAL'!$E$2:$P$92,52,FALSE) -> 0 | G38: =E38-F38 -> 0
D39: Veterinário/Plano Pet | E39: =HLOOKUP($C$2,'ORÇAMENTO PESSOAL'!$E$2:$P$92,53,FALSE) -> 0 | G39: =E39-F39 -> 0
C40: Outros | D40: Seguro de Vida | E40: =HLOOKUP($C$2,'ORÇAMENTO PESSOAL'!$E$2:$P$92,54,FALSE) -> 0 | G40: =E40-F40 -> 0
D41: Tarifas Bancárias | E41: =HLOOKUP($C$2,'ORÇAMENTO PESSOAL'!$E$2:$P$92,55,FALSE) -> 0 | G41: =E41-F41 -> 0
...

Sheet ABRIL
A1: Acompanhamento Mensal
C2: ABRIL | E2: Orçamento Previsto | F2: Gasto Atual | G2: Disponível | I2: RESUMO | K2: Orçamento Previsto | L2: Gasto Atual | M2: Disponível
A3: INVESTIMENTOS Insira aqui o montante mensal que você destinará aos seus investimentos. | D3: Meta 1 | E3: =HLOOKUP($C$2,'ORÇAMENTO PESSOAL'!$E$2:$P$92,16,FALSE) -> 0 | G3: =E3-F3 -> 0 | I3: Necessidades | K3: =E57 -> 0 | L3: =F57 -> 0 | M3: =K3-L3 -> 0
D4: Meta 2 | E4: =HLOOKUP($C$2,'ORÇAMENTO PESSOAL'!$E$2:$P$92,17,FALSE) -> 0 | G4: =E4-F4 -> 0 | I4: Vontades | K4: =E77 -> 0 | L4: =F77 -> 0 | M4: =K4-L4 -> 0
D5: Reserva de Emergência | E5: =HLOOKUP($C$2,'ORÇAMENTO PESSOAL'!$E$2:$P$92,18,FALSE) -> 0 | G5: =E5-F5 -> 0 | I5: Metas (Médio e Longo Prazo) | K5: =E3+E4+E7 -> 0 | L5: =F3+F4+F7 -> 0 | M5: =K5-L5 -> 0
D6: Aposentadoria/Independência Financeira | E6: =HLOOKUP($C$2,'ORÇAMENTO PESSOAL'!$E$2:$P$92,19,FALSE) -> 0 | G6: =E6-F6 -> 0 | I6: Reserva de Emergência | K6: =E5 -> 0 | L6: =F5 -> 0 | M6: =K6-L6 -> 0
D7: Outros | E7: =HLOOKUP($C$2,'ORÇAMENTO PESSOAL'!$E$2:$P$92,20,FALSE) -> 0 | G7: =E7-F7 -> 0 | I7: Aposentadoria/Independência Fin. | K7: =E6 -> 0 | L7: =F6 -> 0 | M7: =K7-L7 -> 0
D8: Total | E8: =SUM(E3:E7) -> 0 | F8: =SUM(F3:F7) -> 0 | G8: =SUM(G3:G7) -> 0 | I8: Total | K8: =SUM(K3:K7) -> 0 | L8: =SUM(L3:L7) -> 0 | M8: =K8-L8 -> 0
A10: NECESSIDADES / ESSENCIAIS | B10: DESPESAS FIXAS Aquelas que têm o mesmo valor mensalmente. e DESPESAS VARIÁVEIS Aquelas que acontecem todos os meses, podem variar de valor e podemos tentar reduzir. | C10: Habitação | D10: Aluguel | E10: =HLOOKUP($C$2,'ORÇAMENTO PESSOAL'!$E$2:$P$92,24,FALSE) -> 0 | G10: =E10-F10 -> 0
D11: Condomínio | E11: =HLOOKUP($C$2,'ORÇAMENTO PESSOAL'!$E$2:$P$92,25,FALSE) -> 0 | G11: =E11-F11 -> 0
D12: Prestação da Casa | E12: =HLOOKUP($C$2,'ORÇAMENTO PESSOAL'!$E$2:$P$92,26,FALSE) -> 0 | G12: =E12-F12 -> 0
D13: Diarista/Mensalista | E13: =HLOOKUP($C$2,'ORÇAMENTO PESSOAL'!$E$2:$P$92,27,FALSE) -> 0 | G13: =E13-F13 -> 0
D14: Luz | E14: =HLOOKUP($C$2,'ORÇAMENTO PESSOAL'!$E$2:$P$92,28,FALSE) -> 0 | G14: =E14-F14 -> 0
D15: Água | E15: =HLOOKUP($C$2,'ORÇAMENTO PESSOAL'!$E$2:$P$92,29,FALSE) -> 0 | G15: =E15-F15 -> 0
D16: Telefone | E16: =HLOOKUP($C$2,'ORÇAMENTO PESSOAL'!$E$2:$P$92,30,FALSE) -> 0 | G16: =E16-F16 -> 0
D17: Gás | E17: =HLOOKUP($C$2,'ORÇAMENTO PESSOAL'!$E$2:$P$92,31,FALSE) -> 0 | G17: =E17-F17 -> 0
D18: Internet | E18: =HLOOKUP($C$2,'ORÇAMENTO PESSOAL'!$E$2:$P$92,32,FALSE) -> 0 | G18: =E18-F18 -> 0
D19: Outros | E19: =HLOOKUP($C$2,'ORÇAMENTO PESSOAL'!$E$2:$P$92,33,FALSE) -> 0 | G19: =E19-F19 -> 0
C20: Transporte | D20: Prestação do Carro | E20: =HLOOKUP($C$2,'ORÇAMENTO PESSOAL'!$E$2:$P$92,34,FALSE) -> 0 | G20: =E20-F20 -> 0
D21: Seguro do Carro | E21: =HLOOKUP($C$2,'ORÇAMENTO PESSOAL'!$E$2:$P$92,35,FALSE) -> 0 | G21: =E21-F21 -> 0
D22: Combustível | E22: =HLOOKUP($C$2,'ORÇAMENTO PESSOAL'!$E$2:$P$92,36,FALSE) -> 0 | G22: =E22-F22 -> 0
D23: Metrô/Ônibus | E23: =HLOOKUP($C$2,'ORÇAMENTO PESSOAL'!$E$2:$P$92,37,FALSE) -> 0 | G23: =E23-F23 -> 0
D24: Taxi/Uber | E24: =HLOOKUP($C$2,'ORÇAMENTO PESSOAL'!$E$2:$P$92,38,FALSE) -> 0 | G24: =E24-F24 -> 0
D25: Estacionamento | E25: =HLOOKUP($C$2,'ORÇAMENTO PESSOAL'!$E$2:$P$92,39,FALSE) -> 0 | G25: =E25-F25 -> 0
D26: Outros | E26: =HLOOKUP($C$2,'ORÇAMENTO PESSOAL'!$E$2:$P$92,40,FALSE) -> 0 | G26: =E26-F26 -> 0
C27: Saúde | D27: Plano de Saúde | E27: =HLOOKUP($C$2,'ORÇAMENTO PESSOAL'!$E$2:$P$92,41,FALSE) -> 0 | G27: =E27-F27 -> 0
D28: Medicamentos | E28: =HLOOKUP($C$2,'ORÇAMENTO PESSOAL'!$E$2:$P$92,42,FALSE) -> 0 | G28: =E28-F28 -> 0
D29: Outros | E29: =HLOOKUP($C$2,'ORÇAMENTO PESSOAL'!$E$2:$P$92,43,FALSE) -> 0 | G29: =E29-F29 -> 0
C30: Alimentação | D30: Supermercado | E30: =HLOOKUP($C$2,'ORÇAMENTO PESSOAL'!$E$2:$P$92,44,FALSE) -> 0 | G30: =E30-F30 -> 0
D31: Feira | E31: =HLOOKUP($C$2,'ORÇAMENTO PESSOAL'!$E$2:$P$92,45,FALSE) -> 0 | G31: =E31-F31 -> 0
D32: Padaria | E32: =HLOOKUP($C$2,'ORÇAMENTO PESSOAL'!$E$2:$P$92,46,FALSE) -> 0 | G32: =E32-F32 -> 0
D33: Outros | E33: =HLOOKUP($C$2,'ORÇAMENTO PESSOAL'!$E$2:$P$92,47,FALSE) -> 0 | G33: =E33-F33 -> 0
C34: Educação | D34: Mensalidade | E34: =HLOOKUP($C$2,'ORÇAMENTO PESSOAL'!$E$2:$P$92,48,FALSE) -> 0 | G34: =E34-F34 -> 0
D35: Transporte Escolar | E35: =HLOOKUP($C$2,'ORÇAMENTO PESSOAL'!$E$2:$P$92,49,FALSE) -> 0 | G35: =E35-F35 -> 0
D36: Outros | E36: =HLOOKUP($C$2,'ORÇAMENTO PESSOAL'!$E$2:$P$92,50,FALSE) -> 0 | G36: =E36-F36 -> 0
C37: Animais de Estimação | D37: Ração | E37: =HLOOKUP($C$2,'ORÇAMENTO PESSOAL'!$E$2:$P$92,51,FALSE) -> 0 | G37: =E37-F37 -> 0
D38: Banho/Tosa | E38: =HLOOKUP($C$2,'ORÇAMENTO PESSOAL'!$E$2:$P$92,52,FALSE) -> 0 | G38: =E38-F38 -> 0
D39: Veterinário/Plano Pet | E39: =HLOOKUP($C$2,'ORÇAMENTO PESSOAL'!$E$2:$P$92,53,FALSE) -> 0 | G39: =E39-F39 -> 0
C40: Outros | D40: Seguro de Vida | E40: =HLOOKUP($C$2,'ORÇAMENTO PESSOAL'!$E$2:$P$92,54,FALSE) -> 0 | G40: =E40-F40 -> 0
D41: Tarifas Bancárias | E41: =HLOOKUP($C$2,'ORÇAMENTO PESSOAL'!$E$2:$P$92,55,FALSE) -> 0 | G41: =E41-F41 -> 0
...

Sheet MAIO
A1: Acompanhamento Mensal
C2: MAIO | E2: Orçamento Previsto | F2: Gasto Atual | G2: Disponível | I2: RESUMO | K2: Orçamento Previsto | L2: Gasto Atual | M2: Disponível
A3: INVESTIMENTOS Insira aqui o montante mensal que você destinará aos seus investimentos. | D3: Meta 1 | E3: =HLOOKUP($C$2,'ORÇAMENTO PESSOAL'!$E$2:$P$92,16,FALSE) -> 0 | G3: =E3-F3 -> 0 | I3: Necessidades | K3: =E57 -> 0 | L3: =F57 -> 0 | M3: =K3-L3 -> 0
D4: Meta 2 | E4: =HLOOKUP($C$2,'ORÇAMENTO PESSOAL'!$E$2:$P$92,17,FALSE) -> 0 | G4: =E4-F4 -> 0 | I4: Vontades | K4: =E77 -> 0 | L4: =F77 -> 0 | M4: =K4-L4 -> 0
D5: Reserva de Emergência | E5: =HLOOKUP($C$2,'ORÇAMENTO PESSOAL'!$E$2:$P$92,18,FALSE) -> 0 | G5: =E5-F5 -> 0 | I5: Metas (Médio e Longo Prazo) | K5: =E3+E4+E7 -> 0 | L5: =F3+F4+F7 -> 0 | M5: =K5-L5 -> 0
D6: Aposentadoria/Independência Financeira | E6: =HLOOKUP($C$2,'ORÇAMENTO PESSOAL'!$E$2:$P$92,19,FALSE) -> 0 | G6: =E6-F6 -> 0 | I6: Reserva de Emergência | K6: =E5 -> 0 | L6: =F5 -> 0 | M6: =K6-L6 -> 0
D7: Outros | E7: =HLOOKUP($C$2,'ORÇAMENTO PESSOAL'!$E$2:$P$92,20,FALSE) -> 0 | G7: =E7-F7 -> 0 | I7: Aposentadoria/Independência Fin. | K7: =E6 -> 0 | L7: =F6 -> 0 | M7: =K7-L7 -> 0
D8: Total | E8: =SUM(E3:E7) -> 0 | F8: =SUM(F3:F7) -> 0 | G8: =SUM(G3:G7) -> 0 | I8: Total | K8: =SUM(K3:K7) -> 0 | L8: =SUM(L3:L7) -> 0 | M8: =K8-L8 -> 0
A10: NECESSIDADES / ESSENCIAIS | B10: DESPESAS FIXAS Aquelas que têm o mesmo valor mensalmente. e DESPESAS VARIÁVEIS Aquelas que acontecem todos os meses, podem variar de valor e podemos tentar reduzir. | C10: Habitação | D10: Aluguel | E10: =HLOOKUP($C$2,'ORÇAMENTO PESSOAL'!$E$2:$P$92,24,FALSE) -> 0 | G10: =E10-F10 -> 0
D11: Condomínio | E11: =HLOOKUP($C$2,'ORÇAMENTO PESSOAL'!$E$2:$P$92,25,FALSE) -> 0 | G11: =E11-F11 -> 0
D12: Prestação da Casa | E12: =HLOOKUP($C$2,'ORÇAMENTO PESSOAL'!$E$2:$P$92,26,FALSE) -> 0 | G12: =E12-F12 -> 0
D13: Diarista/Mensalista | E13: =HLOOKUP($C$2,'ORÇAMENTO PESSOAL'!$E$2:$P$92,27,FALSE) -> 0 | G13: =E13-F13 -> 0
D14: Luz | E14: =HLOOKUP($C$2,'ORÇAMENTO PESSOAL'!$E$2:$P$92,28,FALSE) -> 0 | G14: =E14-F14 -> 0
D15: Água | E15: =HLOOKUP($C$2,'ORÇAMENTO PESSOAL'!$E$2:$P$92,29,FALSE) -> 0 | G15: =E15-F15 -> 0
D16: Telefone | E16: =HLOOKUP($C$2,'ORÇAMENTO PESSOAL'!$E$2:$P$92,30,FALSE) -> 0 | G16: =E16-F16 -> 0
D17: Gás | E17: =HLOOKUP($C$2,'ORÇAMENTO PESSOAL'!$E$2:$P$92,31,FALSE) -> 0 | G17: =E17-F17 -> 0
D18: Internet | E18: =HLOOKUP($C$2,'ORÇAMENTO PESSOAL'!$E$2:$P$92,32,FALSE) -> 0 | G18: =E18-F18 -> 0
D19: Outros | E19: =HLOOKUP($C$2,'ORÇAMENTO PESSOAL'!$E$2:$P$92,33,FALSE) -> 0 | G19: =E19-F19 -> 0
C20: Transporte | D20: Prestação do Carro | E20: =HLOOKUP($C$2,'ORÇAMENTO PESSOAL'!$E$2:$P$92,34,FALSE) -> 0 | G20: =E20-F20 -> 0
D21: Seguro do Carro | E21: =HLOOKUP($C$2,'ORÇAMENTO PESSOAL'!$E$2:$P$92,35,FALSE) -> 0 | G21: =E21-F21 -> 0
D22: Combustível | E22: =HLOOKUP($C$2,'ORÇAMENTO PESSOAL'!$E$2:$P$92,36,FALSE) -> 0 | G22: =E22-F22 -> 0
D23: Metrô/Ônibus | E23: =HLOOKUP($C$2,'ORÇAMENTO PESSOAL'!$E$2:$P$92,37,FALSE) -> 0 | G23: =E23-F23 -> 0
D24: Taxi/Uber | E24: =HLOOKUP($C$2,'ORÇAMENTO PESSOAL'!$E$2:$P$92,38,FALSE) -> 0 | G24: =E24-F24 -> 0
D25: Estacionamento | E25: =HLOOKUP($C$2,'ORÇAMENTO PESSOAL'!$E$2:$P$92,39,FALSE) -> 0 | G25: =E25-F25 -> 0
D26: Outros | E26: =HLOOKUP($C$2,'ORÇAMENTO PESSOAL'!$E$2:$P$92,40,FALSE) -> 0 | G26: =E26-F26 -> 0
C27: Saúde | D27: Plano de Saúde | E27: =HLOOKUP($C$2,'ORÇAMENTO PESSOAL'!$E$2:$P$92,41,FALSE) -> 0 | G27: =E27-F27 -> 0
D28: Medicamentos | E28: =HLOOKUP($C$2,'ORÇAMENTO PESSOAL'!$E$2:$P$92,42,FALSE) -> 0 | G28: =E28-F28 -> 0
D29: Outros | E29: =HLOOKUP($C$2,'ORÇAMENTO PESSOAL'!$E$2:$P$92,43,FALSE) -> 0 | G29: =E29-F29 -> 0
C30: Alimentação | D30: Supermercado | E30: =HLOOKUP($C$2,'ORÇAMENTO PESSOAL'!$E$2:$P$92,44,FALSE) -> 0 | G30: =E30-F30 -> 0
D31: Feira | E31: =HLOOKUP($C$2,'ORÇAMENTO PESSOAL'!$E$2:$P$92,45,FALSE) -> 0 | G31: =E31-F31 -> 0
D32: Padaria | E32: =HLOOKUP($C$2,'ORÇAMENTO PESSOAL'!$E$2:$P$92,46,FALSE) -> 0 | G32: =E32-F32 -> 0
D33: Outros | E33: =HLOOKUP($C$2,'ORÇAMENTO PESSOAL'!$E$2:$P$92,47,FALSE) -> 0 | G33: =E33-F33 -> 0
C34: Educação | D34: Mensalidade | E34: =HLOOKUP($C$2,'ORÇAMENTO PESSOAL'!$E$2:$P$92,48,FALSE) -> 0 | G34: =E34-F34 -> 0
D35: Transporte Escolar | E35: =HLOOKUP($C$2,'ORÇAMENTO PESSOAL'!$E$2:$P$92,49,FALSE) -> 0 | G35: =E35-F35 -> 0
D36: Outros | E36: =HLOOKUP($C$2,'ORÇAMENTO PESSOAL'!$E$2:$P$92,50,FALSE) -> 0 | G36: =E36-F36 -> 0
C37: Animais de Estimação | D37: Ração | E37: =HLOOKUP($C$2,'ORÇAMENTO PESSOAL'!$E$2:$P$92,51,FALSE) -> 0 | G37: =E37-F37 -> 0
D38: Banho/Tosa | E38: =HLOOKUP($C$2,'ORÇAMENTO PESSOAL'!$E$2:$P$92,52,FALSE) -> 0 | G38: =E38-F38 -> 0
D39: Veterinário/Plano Pet | E39: =HLOOKUP($C$2,'ORÇAMENTO PESSOAL'!$E$2:$P$92,53,FALSE) -> 0 | G39: =E39-F39 -> 0
C40: Outros | D40: Seguro de Vida | E40: =HLOOKUP($C$2,'ORÇAMENTO PESSOAL'!$E$2:$P$92,54,FALSE) -> 0 | G40: =E40-F40 -> 0
D41: Tarifas Bancárias | E41: =HLOOKUP($C$2,'ORÇAMENTO PESSOAL'!$E$2:$P$92,55,FALSE) -> 0 | G41: =E41-F41 -> 0
...

Sheet JUNHO
A1: Acompanhamento Mensal
C2: JUNHO | E2: Orçamento Previsto | F2: Gasto Atual | G2: Disponível | I2: RESUMO | K2: Orçamento Previsto | L2: Gasto Atual | M2: Disponível
A3: INVESTIMENTOS Insira aqui o montante mensal que você destinará aos seus investimentos. | D3: Meta 1 | E3: =HLOOKUP($C$2,'ORÇAMENTO PESSOAL'!$E$2:$P$92,16,FALSE) -> 0 | G3: =E3-F3 -> 0 | I3: Necessidades | K3: =E57 -> 0 | L3: =F57 -> 0 | M3: =K3-L3 -> 0
D4: Meta 2 | E4: =HLOOKUP($C$2,'ORÇAMENTO PESSOAL'!$E$2:$P$92,17,FALSE) -> 0 | G4: =E4-F4 -> 0 | I4: Vontades | K4: =E77 -> 0 | L4: =F77 -> 0 | M4: =K4-L4 -> 0
D5: Reserva de Emergência | E5: =HLOOKUP($C$2,'ORÇAMENTO PESSOAL'!$E$2:$P$92,18,FALSE) -> 0 | G5: =E5-F5 -> 0 | I5: Metas (Médio e Longo Prazo) | K5: =E3+E4+E7 -> 0 | L5: =F3+F4+F7 -> 0 | M5: =K5-L5 -> 0
D6: Aposentadoria/Independência Financeira | E6: =HLOOKUP($C$2,'ORÇAMENTO PESSOAL'!$E$2:$P$92,19,FALSE) -> 0 | G6: =E6-F6 -> 0 | I6: Reserva de Emergência | K6: =E5 -> 0 | L6: =F5 -> 0 | M6: =K6-L6 -> 0
D7: Outros | E7: =HLOOKUP($C$2,'ORÇAMENTO PESSOAL'!$E$2:$P$92,20,FALSE) -> 0 | G7: =E7-F7 -> 0 | I7: Aposentadoria/Independência Fin. | K7: =E6 -> 0 | L7: =F6 -> 0 | M7: =K7-L7 -> 0
D8: Total | E8: =SUM(E3:E7) -> 0 | F8: =SUM(F3:F7) -> 0 | G8: =SUM(G3:G7) -> 0 | I8: Total | K8: =SUM(K3:K7) -> 0 | L8: =SUM(L3:L7) -> 0 | M8: =K8-L8 -> 0
A10: NECESSIDADES / ESSENCIAIS | B10: DESPESAS FIXAS Aquelas que têm o mesmo valor mensalmente. e DESPESAS VARIÁVEIS Aquelas que acontecem todos os meses, podem variar de valor e podemos tentar reduzir. | C10: Habitação | D10: Aluguel | E10: =HLOOKUP($C$2,'ORÇAMENTO PESSOAL'!$E$2:$P$92,24,FALSE) -> 0 | G10: =E10-F10 -> 0
D11: Condomínio | E11: =HLOOKUP($C$2,'ORÇAMENTO PESSOAL'!$E$2:$P$92,25,FALSE) -> 0 | G11: =E11-F11 -> 0
D12: Prestação da Casa | E12: =HLOOKUP($C$2,'ORÇAMENTO PESSOAL'!$E$2:$P$92,26,FALSE) -> 0 | G12: =E12-F12 -> 0
D13: Diarista/Mensalista | E13: =HLOOKUP($C$2,'ORÇAMENTO PESSOAL'!$E$2:$P$92,27,FALSE) -> 0 | G13: =E13-F13 -> 0
D14: Luz | E14: =HLOOKUP($C$2,'ORÇAMENTO PESSOAL'!$E$2:$P$92,28,FALSE) -> 0 | G14: =E14-F14 -> 0
D15: Água | E15: =HLOOKUP($C$2,'ORÇAMENTO PESSOAL'!$E$2:$P$92,29,FALSE) -> 0 | G15: =E15-F15 -> 0
D16: Telefone | E16: =HLOOKUP($C$2,'ORÇAMENTO PESSOAL'!$E$2:$P$92,30,FALSE) -> 0 | G16: =E16-F16 -> 0
D17: Gás | E17: =HLOOKUP($C$2,'ORÇAMENTO PESSOAL'!$E$2:$P$92,31,FALSE) -> 0 | G17: =E17-F17 -> 0
D18: Internet | E18: =HLOOKUP($C$2,'ORÇAMENTO PESSOAL'!$E$2:$P$92,32,FALSE) -> 0 | G18: =E18-F18 -> 0
D19: Outros | E19: =HLOOKUP($C$2,'ORÇAMENTO PESSOAL'!$E$2:$P$92,33,FALSE) -> 0 | G19: =E19-F19 -> 0
C20: Transporte | D20: Prestação do Carro | E20: =HLOOKUP($C$2,'ORÇAMENTO PESSOAL'!$E$2:$P$92,34,FALSE) -> 0 | G20: =E20-F20 -> 0
D21: Seguro do Carro | E21: =HLOOKUP($C$2,'ORÇAMENTO PESSOAL'!$E$2:$P$92,35,FALSE) -> 0 | G21: =E21-F21 -> 0
D22: Combustível | E22: =HLOOKUP($C$2,'ORÇAMENTO PESSOAL'!$E$2:$P$92,36,FALSE) -> 0 | G22: =E22-F22 -> 0
D23: Metrô/Ônibus | E23: =HLOOKUP($C$2,'ORÇAMENTO PESSOAL'!$E$2:$P$92,37,FALSE) -> 0 | G23: =E23-F23 -> 0
D24: Taxi/Uber | E24: =HLOOKUP($C$2,'ORÇAMENTO PESSOAL'!$E$2:$P$92,38,FALSE) -> 0 | G24: =E24-F24 -> 0
D25: Estacionamento | E25: =HLOOKUP($C$2,'ORÇAMENTO PESSOAL'!$E$2:$P$92,39,FALSE) -> 0 | G25: =E25-F25 -> 0
D26: Outros | E26: =HLOOKUP($C$2,'ORÇAMENTO PESSOAL'!$E$2:$P$92,40,FALSE) -> 0 | G26: =E26-F26 -> 0
C27: Saúde | D27: Plano de Saúde | E27: =HLOOKUP($C$2,'ORÇAMENTO PESSOAL'!$E$2:$P$92,41,FALSE) -> 0 | G27: =E27-F27 -> 0
D28: Medicamentos | E28: =HLOOKUP($C$2,'ORÇAMENTO PESSOAL'!$E$2:$P$92,42,FALSE) -> 0 | G28: =E28-F28 -> 0
D29: Outros | E29: =HLOOKUP($C$2,'ORÇAMENTO PESSOAL'!$E$2:$P$92,43,FALSE) -> 0 | G29: =E29-F29 -> 0
C30: Alimentação | D30: Supermercado | E30: =HLOOKUP($C$2,'ORÇAMENTO PESSOAL'!$E$2:$P$92,44,FALSE) -> 0 | G30: =E30-F30 -> 0
D31: Feira | E31: =HLOOKUP($C$2,'ORÇAMENTO PESSOAL'!$E$2:$P$92,45,FALSE) -> 0 | G31: =E31-F31 -> 0
D32: Padaria | E32: =HLOOKUP($C$2,'ORÇAMENTO PESSOAL'!$E$2:$P$92,46,FALSE) -> 0 | G32: =E32-F32 -> 0
D33: Outros | E33: =HLOOKUP($C$2,'ORÇAMENTO PESSOAL'!$E$2:$P$92,47,FALSE) -> 0 | G33: =E33-F33 -> 0
C34: Educação | D34: Mensalidade | E34: =HLOOKUP($C$2,'ORÇAMENTO PESSOAL'!$E$2:$P$92,48,FALSE) -> 0 | G34: =E34-F34 -> 0
D35: Transporte Escolar | E35: =HLOOKUP($C$2,'ORÇAMENTO PESSOAL'!$E$2:$P$92,49,FALSE) -> 0 | G35: =E35-F35 -> 0
D36: Outros | E36: =HLOOKUP($C$2,'ORÇAMENTO PESSOAL'!$E$2:$P$92,50,FALSE) -> 0 | G36: =E36-F36 -> 0
C37: Animais de Estimação | D37: Ração | E37: =HLOOKUP($C$2,'ORÇAMENTO PESSOAL'!$E$2:$P$92,51,FALSE) -> 0 | G37: =E37-F37 -> 0
D38: Banho/Tosa | E38: =HLOOKUP($C$2,'ORÇAMENTO PESSOAL'!$E$2:$P$92,52,FALSE) -> 0 | G38: =E38-F38 -> 0
D39: Veterinário/Plano Pet | E39: =HLOOKUP($C$2,'ORÇAMENTO PESSOAL'!$E$2:$P$92,53,FALSE) -> 0 | G39: =E39-F39 -> 0
C40: Outros | D40: Seguro de Vida | E40: =HLOOKUP($C$2,'ORÇAMENTO PESSOAL'!$E$2:$P$92,54,FALSE) -> 0 | G40: =E40-F40 -> 0
D41: Tarifas Bancárias | E41: =HLOOKUP($C$2,'ORÇAMENTO PESSOAL'!$E$2:$P$92,55,FALSE) -> 0 | G41: =E41-F41 -> 0
...

Sheet JULHO
A1: Acompanhamento Mensal
C2: JULHO | E2: Orçamento Previsto | F2: Gasto Atual | G2: Disponível | I2: RESUMO | K2: Orçamento Previsto | L2: Gasto Atual | M2: Disponível
A3: INVESTIMENTOS Insira aqui o montante mensal que você destinará aos seus investimentos. | D3: Meta 1 | E3: =HLOOKUP($C$2,'ORÇAMENTO PESSOAL'!$E$2:$P$92,16,FALSE) -> 0 | G3: =E3-F3 -> 0 | I3: Necessidades | K3: =E57 -> 0 | L3: =F57 -> 0 | M3: =K3-L3 -> 0
D4: Meta 2 | E4: =HLOOKUP($C$2,'ORÇAMENTO PESSOAL'!$E$2:$P$92,17,FALSE) -> 0 | G4: =E4-F4 -> 0 | I4: Vontades | K4: =E77 -> 0 | L4: =F77 -> 0 | M4: =K4-L4 -> 0
D5: Reserva de Emergência | E5: =HLOOKUP($C$2,'ORÇAMENTO PESSOAL'!$E$2:$P$92,18,FALSE) -> 0 | G5: =E5-F5 -> 0 | I5: Metas (Médio e Longo Prazo) | K5: =E3+E4+E7 -> 0 | L5: =F3+F4+F7 -> 0 | M5: =K5-L5 -> 0
D6: Aposentadoria/Independência Financeira | E6: =HLOOKUP($C$2,'ORÇAMENTO PESSOAL'!$E$2:$P$92,19,FALSE) -> 0 | G6: =E6-F6 -> 0 | I6: Reserva de Emergência | K6: =E5 -> 0 | L6: =F5 -> 0 | M6: =K6-L6 -> 0
D7: Outros | E7: =HLOOKUP($C$2,'ORÇAMENTO PESSOAL'!$E$2:$P$92,20,FALSE) -> 0 | G7: =E7-F7 -> 0 | I7: Aposentadoria/Independência Fin. | K7: =E6 -> 0 | L7: =F6 -> 0 | M7: =K7-L7 -> 0
D8: Total | E8: =SUM(E3:E7) -> 0 | F8: =SUM(F3:F7) -> 0 | G8: =SUM(G3:G7) -> 0 | I8: Total | K8: =SUM(K3:K7) -> 0 | L8: =SUM(L3:L7) -> 0 | M8: =K8-L8 -> 0
A10: NECESSIDADES / ESSENCIAIS | B10: DESPESAS FIXAS Aquelas que têm o mesmo valor mensalmente. e DESPESAS VARIÁVEIS Aquelas que acontecem todos os meses, podem variar de valor e podemos tentar reduzir. | C10: Habitação | D10: Aluguel | E10: =HLOOKUP($C$2,'ORÇAMENTO PESSOAL'!$E$2:$P$92,24,FALSE) -> 0 | G10: =E10-F10 -> 0
D11: Condomínio | E11: =HLOOKUP($C$2,'ORÇAMENTO PESSOAL'!$E$2:$P$92,25,FALSE) -> 0 | G11: =E11-F11 -> 0
D12: Prestação da Casa | E12: =HLOOKUP($C$2,'ORÇAMENTO PESSOAL'!$E$2:$P$92,26,FALSE) -> 0 | G12: =E12-F12 -> 0
D13: Diarista/Mensalista | E13: =HLOOKUP($C$2,'ORÇAMENTO PESSOAL'!$E$2:$P$92,27,FALSE) -> 0 | G13: =E13-F13 -> 0
D14: Luz | E14: =HLOOKUP($C$2,'ORÇAMENTO PESSOAL'!$E$2:$P$92,28,FALSE) -> 0 | G14: =E14-F14 -> 0
D15: Água | E15: =HLOOKUP($C$2,'ORÇAMENTO PESSOAL'!$E$2:$P$92,29,FALSE) -> 0 | G15: =E15-F15 -> 0
D16: Telefone | E16: =HLOOKUP($C$2,'ORÇAMENTO PESSOAL'!$E$2:$P$92,30,FALSE) -> 0 | G16: =E16-F16 -> 0
D17: Gás | E17: =HLOOKUP($C$2,'ORÇAMENTO PESSOAL'!$E$2:$P$92,31,FALSE) -> 0 | G17: =E17-F17 -> 0
D18: Internet | E18: =HLOOKUP($C$2,'ORÇAMENTO PESSOAL'!$E$2:$P$92,32,FALSE) -> 0 | G18: =E18-F18 -> 0
D19: Outros | E19: =HLOOKUP($C$2,'ORÇAMENTO PESSOAL'!$E$2:$P$92,33,FALSE) -> 0 | G19: =E19-F19 -> 0
C20: Transporte | D20: Prestação do Carro | E20: =HLOOKUP($C$2,'ORÇAMENTO PESSOAL'!$E$2:$P$92,34,FALSE) -> 0 | G20: =E20-F20 -> 0
D21: Seguro do Carro | E21: =HLOOKUP($C$2,'ORÇAMENTO PESSOAL'!$E$2:$P$92,35,FALSE) -> 0 | G21: =E21-F21 -> 0
D22: Combustível | E22: =HLOOKUP($C$2,'ORÇAMENTO PESSOAL'!$E$2:$P$92,36,FALSE) -> 0 | G22: =E22-F22 -> 0
D23: Metrô/Ônibus | E23: =HLOOKUP($C$2,'ORÇAMENTO PESSOAL'!$E$2:$P$92,37,FALSE) -> 0 | G23: =E23-F23 -> 0
D24: Taxi/Uber | E24: =HLOOKUP($C$2,'ORÇAMENTO PESSOAL'!$E$2:$P$92,38,FALSE) -> 0 | G24: =E24-F24 -> 0
D25: Estacionamento | E25: =HLOOKUP($C$2,'ORÇAMENTO PESSOAL'!$E$2:$P$92,39,FALSE) -> 0 | G25: =E25-F25 -> 0
D26: Outros | E26: =HLOOKUP($C$2,'ORÇAMENTO PESSOAL'!$E$2:$P$92,40,FALSE) -> 0 | G26: =E26-F26 -> 0
C27: Saúde | D27: Plano de Saúde | E27: =HLOOKUP($C$2,'ORÇAMENTO PESSOAL'!$E$2:$P$92,41,FALSE) -> 0 | G27: =E27-F27 -> 0
D28: Medicamentos | E28: =HLOOKUP($C$2,'ORÇAMENTO PESSOAL'!$E$2:$P$92,42,FALSE) -> 0 | G28: =E28-F28 -> 0
D29: Outros | E29: =HLOOKUP($C$2,'ORÇAMENTO PESSOAL'!$E$2:$P$92,43,FALSE) -> 0 | G29: =E29-F29 -> 0
C30: Alimentação | D30: Supermercado | E30: =HLOOKUP($C$2,'ORÇAMENTO PESSOAL'!$E$2:$P$92,44,FALSE) -> 0 | G30: =E30-F30 -> 0
D31: Feira | E31: =HLOOKUP($C$2,'ORÇAMENTO PESSOAL'!$E$2:$P$92,45,FALSE) -> 0 | G31: =E31-F31 -> 0
D32: Padaria | E32: =HLOOKUP($C$2,'ORÇAMENTO PESSOAL'!$E$2:$P$92,46,FALSE) -> 0 | G32: =E32-F32 -> 0
D33: Outros | E33: =HLOOKUP($C$2,'ORÇAMENTO PESSOAL'!$E$2:$P$92,47,FALSE) -> 0 | G33: =E33-F33 -> 0
C34: Educação | D34: Mensalidade | E34: =HLOOKUP($C$2,'ORÇAMENTO PESSOAL'!$E$2:$P$92,48,FALSE) -> 0 | G34: =E34-F34 -> 0
D35: Transporte Escolar | E35: =HLOOKUP($C$2,'ORÇAMENTO PESSOAL'!$E$2:$P$92,49,FALSE) -> 0 | G35: =E35-F35 -> 0
D36: Outros | E36: =HLOOKUP($C$2,'ORÇAMENTO PESSOAL'!$E$2:$P$92,50,FALSE) -> 0 | G36: =E36-F36 -> 0
C37: Animais de Estimação | D37: Ração | E37: =HLOOKUP($C$2,'ORÇAMENTO PESSOAL'!$E$2:$P$92,51,FALSE) -> 0 | G37: =E37-F37 -> 0
D38: Banho/Tosa | E38: =HLOOKUP($C$2,'ORÇAMENTO PESSOAL'!$E$2:$P$92,52,FALSE) -> 0 | G38: =E38-F38 -> 0
D39: Veterinário/Plano Pet | E39: =HLOOKUP($C$2,'ORÇAMENTO PESSOAL'!$E$2:$P$92,53,FALSE) -> 0 | G39: =E39-F39 -> 0
C40: Outros | D40: Seguro de Vida | E40: =HLOOKUP($C$2,'ORÇAMENTO PESSOAL'!$E$2:$P$92,54,FALSE) -> 0 | G40: =E40-F40 -> 0
D41: Tarifas Bancárias | E41: =HLOOKUP($C$2,'ORÇAMENTO PESSOAL'!$E$2:$P$92,55,FALSE) -> 0 | G41: =E41-F41 -> 0
...

Sheet AGOSTO
A1: Acompanhamento Mensal
C2: AGOSTO | E2: Orçamento Previsto | F2: Gasto Atual | G2: Disponível | I2: RESUMO | K2: Orçamento Previsto | L2: Gasto Atual | M2: Disponível
A3: INVESTIMENTOS Insira aqui o montante mensal que você destinará aos seus investimentos. | D3: Meta 1 | E3: =HLOOKUP($C$2,'ORÇAMENTO PESSOAL'!$E$2:$P$92,16,FALSE) -> 0 | G3: =E3-F3 -> 0 | I3: Necessidades | K3: =E57 -> 0 | L3: =F57 -> 0 | M3: =K3-L3 -> 0
D4: Meta 2 | E4: =HLOOKUP($C$2,'ORÇAMENTO PESSOAL'!$E$2:$P$92,17,FALSE) -> 0 | G4: =E4-F4 -> 0 | I4: Vontades | K4: =E77 -> 0 | L4: =F77 -> 0 | M4: =K4-L4 -> 0
D5: Reserva de Emergência | E5: =HLOOKUP($C$2,'ORÇAMENTO PESSOAL'!$E$2:$P$92,18,FALSE) -> 0 | G5: =E5-F5 -> 0 | I5: Metas (Médio e Longo Prazo) | K5: =E3+E4+E7 -> 0 | L5: =F3+F4+F7 -> 0 | M5: =K5-L5 -> 0
D6: Aposentadoria/Independência Financeira | E6: =HLOOKUP($C$2,'ORÇAMENTO PESSOAL'!$E$2:$P$92,19,FALSE) -> 0 | G6: =E6-F6 -> 0 | I6: Reserva de Emergência | K6: =E5 -> 0 | L6: =F5 -> 0 | M6: =K6-L6 -> 0
D7: Outros | E7: =HLOOKUP($C$2,'ORÇAMENTO PESSOAL'!$E$2:$P$92,20,FALSE) -> 0 | G7: =E7-F7 -> 0 | I7: Aposentadoria/Independência Fin. | K7: =E6 -> 0 | L7: =F6 -> 0 | M7: =K7-L7 -> 0
D8: Total | E8: =SUM(E3:E7) -> 0 | F8: =SUM(F3:F7) -> 0 | G8: =SUM(G3:G7) -> 0 | I8: Total | K8: =SUM(K3:K7) -> 0 | L8: =SUM(L3:L7) -> 0 | M8: =K8-L8 -> 0
A10: NECESSIDADES / ESSENCIAIS | B10: DESPESAS FIXAS Aquelas que têm o mesmo valor mensalmente. e DESPESAS VARIÁVEIS Aquelas que acontecem todos os meses, podem variar de valor e podemos tentar reduzir. | C10: Habitação | D10: Aluguel | E10: =HLOOKUP($C$2,'ORÇAMENTO PESSOAL'!$E$2:$P$92,24,FALSE) -> 0 | G10: =E10-F10 -> 0
D11: Condomínio | E11: =HLOOKUP($C$2,'ORÇAMENTO PESSOAL'!$E$2:$P$92,25,FALSE) -> 0 | G11: =E11-F11 -> 0
D12: Prestação da Casa | E12: =HLOOKUP($C$2,'ORÇAMENTO PESSOAL'!$E$2:$P$92,26,FALSE) -> 0 | G12: =E12-F12 -> 0
D13: Diarista/Mensalista | E13: =HLOOKUP($C$2,'ORÇAMENTO PESSOAL'!$E$2:$P$92,27,FALSE) -> 0 | G13: =E13-F13 -> 0
D14: Luz | E14: =HLOOKUP($C$2,'ORÇAMENTO PESSOAL'!$E$2:$P$92,28,FALSE) -> 0 | G14: =E14-F14 -> 0
D15: Água | E15: =HLOOKUP($C$2,'ORÇAMENTO PESSOAL'!$E$2:$P$92,29,FALSE) -> 0 | G15: =E15-F15 -> 0
D16: Telefone | E16: =HLOOKUP($C$2,'ORÇAMENTO PESSOAL'!$E$2:$P$92,30,FALSE) -> 0 | G16: =E16-F16 -> 0
D17: Gás | E17: =HLOOKUP($C$2,'ORÇAMENTO PESSOAL'!$E$2:$P$92,31,FALSE) -> 0 | G17: =E17-F17 -> 0
D18: Internet | E18: =HLOOKUP($C$2,'ORÇAMENTO PESSOAL'!$E$2:$P$92,32,FALSE) -> 0 | G18: =E18-F18 -> 0
D19: Outros | E19: =HLOOKUP($C$2,'ORÇAMENTO PESSOAL'!$E$2:$P$92,33,FALSE) -> 0 | G19: =E19-F19 -> 0
C20: Transporte | D20: Prestação do Carro | E20: =HLOOKUP($C$2,'ORÇAMENTO PESSOAL'!$E$2:$P$92,34,FALSE) -> 0 | G20: =E20-F20 -> 0
D21: Seguro do Carro | E21: =HLOOKUP($C$2,'ORÇAMENTO PESSOAL'!$E$2:$P$92,35,FALSE) -> 0 | G21: =E21-F21 -> 0
D22: Combustível | E22: =HLOOKUP($C$2,'ORÇAMENTO PESSOAL'!$E$2:$P$92,36,FALSE) -> 0 | G22: =E22-F22 -> 0
D23: Metrô/Ônibus | E23: =HLOOKUP($C$2,'ORÇAMENTO PESSOAL'!$E$2:$P$92,37,FALSE) -> 0 | G23: =E23-F23 -> 0
D24: Taxi/Uber | E24: =HLOOKUP($C$2,'ORÇAMENTO PESSOAL'!$E$2:$P$92,38,FALSE) -> 0 | G24: =E24-F24 -> 0
D25: Estacionamento | E25: =HLOOKUP($C$2,'ORÇAMENTO PESSOAL'!$E$2:$P$92,39,FALSE) -> 0 | G25: =E25-F25 -> 0
D26: Outros | E26: =HLOOKUP($C$2,'ORÇAMENTO PESSOAL'!$E$2:$P$92,40,FALSE) -> 0 | G26: =E26-F26 -> 0
C27: Saúde | D27: Plano de Saúde | E27: =HLOOKUP($C$2,'ORÇAMENTO PESSOAL'!$E$2:$P$92,41,FALSE) -> 0 | G27: =E27-F27 -> 0
D28: Medicamentos | E28: =HLOOKUP($C$2,'ORÇAMENTO PESSOAL'!$E$2:$P$92,42,FALSE) -> 0 | G28: =E28-F28 -> 0
D29: Outros | E29: =HLOOKUP($C$2,'ORÇAMENTO PESSOAL'!$E$2:$P$92,43,FALSE) -> 0 | G29: =E29-F29 -> 0
C30: Alimentação | D30: Supermercado | E30: =HLOOKUP($C$2,'ORÇAMENTO PESSOAL'!$E$2:$P$92,44,FALSE) -> 0 | G30: =E30-F30 -> 0
D31: Feira | E31: =HLOOKUP($C$2,'ORÇAMENTO PESSOAL'!$E$2:$P$92,45,FALSE) -> 0 | G31: =E31-F31 -> 0
D32: Padaria | E32: =HLOOKUP($C$2,'ORÇAMENTO PESSOAL'!$E$2:$P$92,46,FALSE) -> 0 | G32: =E32-F32 -> 0
D33: Outros | E33: =HLOOKUP($C$2,'ORÇAMENTO PESSOAL'!$E$2:$P$92,47,FALSE) -> 0 | G33: =E33-F33 -> 0
C34: Educação | D34: Mensalidade | E34: =HLOOKUP($C$2,'ORÇAMENTO PESSOAL'!$E$2:$P$92,48,FALSE) -> 0 | G34: =E34-F34 -> 0
D35: Transporte Escolar | E35: =HLOOKUP($C$2,'ORÇAMENTO PESSOAL'!$E$2:$P$92,49,FALSE) -> 0 | G35: =E35-F35 -> 0
D36: Outros | E36: =HLOOKUP($C$2,'ORÇAMENTO PESSOAL'!$E$2:$P$92,50,FALSE) -> 0 | G36: =E36-F36 -> 0
C37: Animais de Estimação | D37: Ração | E37: =HLOOKUP($C$2,'ORÇAMENTO PESSOAL'!$E$2:$P$92,51,FALSE) -> 0 | G37: =E37-F37 -> 0
D38: Banho/Tosa | E38: =HLOOKUP($C$2,'ORÇAMENTO PESSOAL'!$E$2:$P$92,52,FALSE) -> 0 | G38: =E38-F38 -> 0
D39: Veterinário/Plano Pet | E39: =HLOOKUP($C$2,'ORÇAMENTO PESSOAL'!$E$2:$P$92,53,FALSE) -> 0 | G39: =E39-F39 -> 0
C40: Outros | D40: Seguro de Vida | E40: =HLOOKUP($C$2,'ORÇAMENTO PESSOAL'!$E$2:$P$92,54,FALSE) -> 0 | G40: =E40-F40 -> 0
D41: Tarifas Bancárias | E41: =HLOOKUP($C$2,'ORÇAMENTO PESSOAL'!$E$2:$P$92,55,FALSE) -> 0 | G41: =E41-F41 -> 0
...

Sheet SETEMBRO
A1: Acompanhamento Mensal
C2: SETEMBRO | E2: Orçamento Previsto | F2: Gasto Atual | G2: Disponível | I2: RESUMO | K2: Orçamento Previsto | L2: Gasto Atual | M2: Disponível
A3: INVESTIMENTOS Insira aqui o montante mensal que você destinará aos seus investimentos. | D3: Meta 1 | E3: =HLOOKUP($C$2,'ORÇAMENTO PESSOAL'!$E$2:$P$92,16,FALSE) -> 0 | G3: =E3-F3 -> 0 | I3: Necessidades | K3: =E57 -> 0 | L3: =F57 -> 0 | M3: =K3-L3 -> 0
D4: Meta 2 | E4: =HLOOKUP($C$2,'ORÇAMENTO PESSOAL'!$E$2:$P$92,17,FALSE) -> 0 | G4: =E4-F4 -> 0 | I4: Vontades | K4: =E77 -> 0 | L4: =F77 -> 0 | M4: =K4-L4 -> 0
D5: Reserva de Emergência | E5: =HLOOKUP($C$2,'ORÇAMENTO PESSOAL'!$E$2:$P$92,18,FALSE) -> 0 | G5: =E5-F5 -> 0 | I5: Metas (Médio e Longo Prazo) | K5: =E3+E4+E7 -> 0 | L5: =F3+F4+F7 -> 0 | M5: =K5-L5 -> 0
D6: Aposentadoria/Independência Financeira | E6: =HLOOKUP($C$2,'ORÇAMENTO PESSOAL'!$E$2:$P$92,19,FALSE) -> 0 | G6: =E6-F6 -> 0 | I6: Reserva de Emergência | K6: =E5 -> 0 | L6: =F5 -> 0 | M6: =K6-L6 -> 0
D7: Outros | E7: =HLOOKUP($C$2,'ORÇAMENTO PESSOAL'!$E$2:$P$92,20,FALSE) -> 0 | G7: =E7-F7 -> 0 | I7: Aposentadoria/Independência Fin. | K7: =E6 -> 0 | L7: =F6 -> 0 | M7: =K7-L7 -> 0
D8: Total | E8: =SUM(E3:E7) -> 0 | F8: =SUM(F3:F7) -> 0 | G8: =SUM(G3:G7) -> 0 | I8: Total | K8: =SUM(K3:K7) -> 0 | L8: =SUM(L3:L7) -> 0 | M8: =K8-L8 -> 0
A10: NECESSIDADES / ESSENCIAIS | B10: DESPESAS FIXAS Aquelas que têm o mesmo valor mensalmente. e DESPESAS VARIÁVEIS Aquelas que acontecem todos os meses, podem variar de valor e podemos tentar reduzir. | C10: Habitação | D10: Aluguel | E10: =HLOOKUP($C$2,'ORÇAMENTO PESSOAL'!$E$2:$P$92,24,FALSE) -> 0 | G10: =E10-F10 -> 0
D11: Condomínio | E11: =HLOOKUP($C$2,'ORÇAMENTO PESSOAL'!$E$2:$P$92,25,FALSE) -> 0 | G11: =E11-F11 -> 0
D12: Prestação da Casa | E12: =HLOOKUP($C$2,'ORÇAMENTO PESSOAL'!$E$2:$P$92,26,FALSE) -> 0 | G12: =E12-F12 -> 0
D13: Diarista/Mensalista | E13: =HLOOKUP($C$2,'ORÇAMENTO PESSOAL'!$E$2:$P$92,27,FALSE) -> 0 | G13: =E13-F13 -> 0
D14: Luz | E14: =HLOOKUP($C$2,'ORÇAMENTO PESSOAL'!$E$2:$P$92,28,FALSE) -> 0 | G14: =E14-F14 -> 0
D15: Água | E15: =HLOOKUP($C$2,'ORÇAMENTO PESSOAL'!$E$2:$P$92,29,FALSE) -> 0 | G15: =E15-F15 -> 0
D16: Telefone | E16: =HLOOKUP($C$2,'ORÇAMENTO PESSOAL'!$E$2:$P$92,30,FALSE) -> 0 | G16: =E16-F16 -> 0
D17: Gás | E17: =HLOOKUP($C$2,'ORÇAMENTO PESSOAL'!$E$2:$P$92,31,FALSE) -> 0 | G17: =E17-F17 -> 0
D18: Internet | E18: =HLOOKUP($C$2,'ORÇAMENTO PESSOAL'!$E$2:$P$92,32,FALSE) -> 0 | G18: =E18-F18 -> 0
D19: Outros | E19: =HLOOKUP($C$2,'ORÇAMENTO PESSOAL'!$E$2:$P$92,33,FALSE) -> 0 | G19: =E19-F19 -> 0
C20: Transporte | D20: Prestação do Carro | E20: =HLOOKUP($C$2,'ORÇAMENTO PESSOAL'!$E$2:$P$92,34,FALSE) -> 0 | G20: =E20-F20 -> 0
D21: Seguro do Carro | E21: =HLOOKUP($C$2,'ORÇAMENTO PESSOAL'!$E$2:$P$92,35,FALSE) -> 0 | G21: =E21-F21 -> 0
D22: Combustível | E22: =HLOOKUP($C$2,'ORÇAMENTO PESSOAL'!$E$2:$P$92,36,FALSE) -> 0 | G22: =E22-F22 -> 0
D23: Metrô/Ônibus | E23: =HLOOKUP($C$2,'ORÇAMENTO PESSOAL'!$E$2:$P$92,37,FALSE) -> 0 | G23: =E23-F23 -> 0
D24: Taxi/Uber | E24: =HLOOKUP($C$2,'ORÇAMENTO PESSOAL'!$E$2:$P$92,38,FALSE) -> 0 | G24: =E24-F24 -> 0
D25: Estacionamento | E25: =HLOOKUP($C$2,'ORÇAMENTO PESSOAL'!$E$2:$P$92,39,FALSE) -> 0 | G25: =E25-F25 -> 0
D26: Outros | E26: =HLOOKUP($C$2,'ORÇAMENTO PESSOAL'!$E$2:$P$92,40,FALSE) -> 0 | G26: =E26-F26 -> 0
C27: Saúde | D27: Plano de Saúde | E27: =HLOOKUP($C$2,'ORÇAMENTO PESSOAL'!$E$2:$P$92,41,FALSE) -> 0 | G27: =E27-F27 -> 0
D28: Medicamentos | E28: =HLOOKUP($C$2,'ORÇAMENTO PESSOAL'!$E$2:$P$92,42,FALSE) -> 0 | G28: =E28-F28 -> 0
D29: Outros | E29: =HLOOKUP($C$2,'ORÇAMENTO PESSOAL'!$E$2:$P$92,43,FALSE) -> 0 | G29: =E29-F29 -> 0
C30: Alimentação | D30: Supermercado | E30: =HLOOKUP($C$2,'ORÇAMENTO PESSOAL'!$E$2:$P$92,44,FALSE) -> 0 | G30: =E30-F30 -> 0
D31: Feira | E31: =HLOOKUP($C$2,'ORÇAMENTO PESSOAL'!$E$2:$P$92,45,FALSE) -> 0 | G31: =E31-F31 -> 0
D32: Padaria | E32: =HLOOKUP($C$2,'ORÇAMENTO PESSOAL'!$E$2:$P$92,46,FALSE) -> 0 | G32: =E32-F32 -> 0
D33: Outros | E33: =HLOOKUP($C$2,'ORÇAMENTO PESSOAL'!$E$2:$P$92,47,FALSE) -> 0 | G33: =E33-F33 -> 0
C34: Educação | D34: Mensalidade | E34: =HLOOKUP($C$2,'ORÇAMENTO PESSOAL'!$E$2:$P$92,48,FALSE) -> 0 | G34: =E34-F34 -> 0
D35: Transporte Escolar | E35: =HLOOKUP($C$2,'ORÇAMENTO PESSOAL'!$E$2:$P$92,49,FALSE) -> 0 | G35: =E35-F35 -> 0
D36: Outros | E36: =HLOOKUP($C$2,'ORÇAMENTO PESSOAL'!$E$2:$P$92,50,FALSE) -> 0 | G36: =E36-F36 -> 0
C37: Animais de Estimação | D37: Ração | E37: =HLOOKUP($C$2,'ORÇAMENTO PESSOAL'!$E$2:$P$92,51,FALSE) -> 0 | G37: =E37-F37 -> 0
D38: Banho/Tosa | E38: =HLOOKUP($C$2,'ORÇAMENTO PESSOAL'!$E$2:$P$92,52,FALSE) -> 0 | G38: =E38-F38 -> 0
D39: Veterinário/Plano Pet | E39: =HLOOKUP($C$2,'ORÇAMENTO PESSOAL'!$E$2:$P$92,53,FALSE) -> 0 | G39: =E39-F39 -> 0
C40: Outros | D40: Seguro de Vida | E40: =HLOOKUP($C$2,'ORÇAMENTO PESSOAL'!$E$2:$P$92,54,FALSE) -> 0 | G40: =E40-F40 -> 0
D41: Tarifas Bancárias | E41: =HLOOKUP($C$2,'ORÇAMENTO PESSOAL'!$E$2:$P$92,55,FALSE) -> 0 | G41: =E41-F41 -> 0
...

Sheet OUTUBRO
A1: Acompanhamento Mensal
C2: OUTUBRO | E2: Orçamento Previsto | F2: Gasto Atual | G2: Disponível | I2: RESUMO | K2: Orçamento Previsto | L2: Gasto Atual | M2: Disponível
A3: INVESTIMENTOS Insira aqui o montante mensal que você destinará aos seus investimentos. | D3: Meta 1 | E3: =HLOOKUP($C$2,'ORÇAMENTO PESSOAL'!$E$2:$P$92,16,FALSE) -> 0 | G3: =E3-F3 -> 0 | I3: Necessidades | K3: =E57 -> 0 | L3: =F57 -> 0 | M3: =K3-L3 -> 0
D4: Meta 2 | E4: =HLOOKUP($C$2,'ORÇAMENTO PESSOAL'!$E$2:$P$92,17,FALSE) -> 0 | G4: =E4-F4 -> 0 | I4: Vontades | K4: =E77 -> 0 | L4: =F77 -> 0 | M4: =K4-L4 -> 0
D5: Reserva de Emergência | E5: =HLOOKUP($C$2,'ORÇAMENTO PESSOAL'!$E$2:$P$92,18,FALSE) -> 0 | G5: =E5-F5 -> 0 | I5: Metas (Médio e Longo Prazo) | K5: =E3+E4+E7 -> 0 | L5: =F3+F4+F7 -> 0 | M5: =K5-L5 -> 0
D6: Aposentadoria/Independência Financeira | E6: =HLOOKUP($C$2,'ORÇAMENTO PESSOAL'!$E$2:$P$92,19,FALSE) -> 0 | G6: =E6-F6 -> 0 | I6: Reserva de Emergência | K6: =E5 -> 0 | L6: =F5 -> 0 | M6: =K6-L6 -> 0
D7: Outros | E7: =HLOOKUP($C$2,'ORÇAMENTO PESSOAL'!$E$2:$P$92,20,FALSE) -> 0 | G7: =E7-F7 -> 0 | I7: Aposentadoria/Independência Fin. | K7: =E6 -> 0 | L7: =F6 -> 0 | M7: =K7-L7 -> 0
D8: Total | E8: =SUM(E3:E7) -> 0 | F8: =SUM(F3:F7) -> 0 | G8: =SUM(G3:G7) -> 0 | I8: Total | K8: =SUM(K3:K7) -> 0 | L8: =SUM(L3:L7) -> 0 | M8: =K8-L8 -> 0
A10: NECESSIDADES / ESSENCIAIS | B10: DESPESAS FIXAS Aquelas que têm o mesmo valor mensalmente. e DESPESAS VARIÁVEIS Aquelas que acontecem todos os meses, podem variar de valor e podemos tentar reduzir. | C10: Habitação | D10: Aluguel | E10: =HLOOKUP($C$2,'ORÇAMENTO PESSOAL'!$E$2:$P$92,24,FALSE) -> 0 | G10: =E10-F10 -> 0
D11: Condomínio | E11: =HLOOKUP($C$2,'ORÇAMENTO PESSOAL'!$E$2:$P$92,25,FALSE) -> 0 | G11: =E11-F11 -> 0
D12: Prestação da Casa | E12: =HLOOKUP($C$2,'ORÇAMENTO PESSOAL'!$E$2:$P$92,26,FALSE) -> 0 | G12: =E12-F12 -> 0
D13: Diarista/Mensalista | E13: =HLOOKUP($C$2,'ORÇAMENTO PESSOAL'!$E$2:$P$92,27,FALSE) -> 0 | G13: =E13-F13 -> 0
D14: Luz | E14: =HLOOKUP($C$2,'ORÇAMENTO PESSOAL'!$E$2:$P$92,28,FALSE) -> 0 | G14: =E14-F14 -> 0
D15: Água | E15: =HLOOKUP($C$2,'ORÇAMENTO PESSOAL'!$E$2:$P$92,29,FALSE) -> 0 | G15: =E15-F15 -> 0
D16: Telefone | E16: =HLOOKUP($C$2,'ORÇAMENTO PESSOAL'!$E$2:$P$92,30,FALSE) -> 0 | G16: =E16-F16 -> 0
D17: Gás | E17: =HLOOKUP($C$2,'ORÇAMENTO PESSOAL'!$E$2:$P$92,31,FALSE) -> 0 | G17: =E17-F17 -> 0
D18: Internet | E18: =HLOOKUP($C$2,'ORÇAMENTO PESSOAL'!$E$2:$P$92,32,FALSE) -> 0 | G18: =E18-F18 -> 0
D19: Outros | E19: =HLOOKUP($C$2,'ORÇAMENTO PESSOAL'!$E$2:$P$92,33,FALSE) -> 0 | G19: =E19-F19 -> 0
C20: Transporte | D20: Prestação do Carro | E20: =HLOOKUP($C$2,'ORÇAMENTO PESSOAL'!$E$2:$P$92,34,FALSE) -> 0 | G20: =E20-F20 -> 0
D21: Seguro do Carro | E21: =HLOOKUP($C$2,'ORÇAMENTO PESSOAL'!$E$2:$P$92,35,FALSE) -> 0 | G21: =E21-F21 -> 0
D22: Combustível | E22: =HLOOKUP($C$2,'ORÇAMENTO PESSOAL'!$E$2:$P$92,36,FALSE) -> 0 | G22: =E22-F22 -> 0
D23: Metrô/Ônibus | E23: =HLOOKUP($C$2,'ORÇAMENTO PESSOAL'!$E$2:$P$92,37,FALSE) -> 0 | G23: =E23-F23 -> 0
D24: Taxi/Uber | E24: =HLOOKUP($C$2,'ORÇAMENTO PESSOAL'!$E$2:$P$92,38,FALSE) -> 0 | G24: =E24-F24 -> 0
D25: Estacionamento | E25: =HLOOKUP($C$2,'ORÇAMENTO PESSOAL'!$E$2:$P$92,39,FALSE) -> 0 | G25: =E25-F25 -> 0
D26: Outros | E26: =HLOOKUP($C$2,'ORÇAMENTO PESSOAL'!$E$2:$P$92,40,FALSE) -> 0 | G26: =E26-F26 -> 0
C27: Saúde | D27: Plano de Saúde | E27: =HLOOKUP($C$2,'ORÇAMENTO PESSOAL'!$E$2:$P$92,41,FALSE) -> 0 | G27: =E27-F27 -> 0
D28: Medicamentos | E28: =HLOOKUP($C$2,'ORÇAMENTO PESSOAL'!$E$2:$P$92,42,FALSE) -> 0 | G28: =E28-F28 -> 0
D29: Outros | E29: =HLOOKUP($C$2,'ORÇAMENTO PESSOAL'!$E$2:$P$92,43,FALSE) -> 0 | G29: =E29-F29 -> 0
C30: Alimentação | D30: Supermercado | E30: =HLOOKUP($C$2,'ORÇAMENTO PESSOAL'!$E$2:$P$92,44,FALSE) -> 0 | G30: =E30-F30 -> 0
D31: Feira | E31: =HLOOKUP($C$2,'ORÇAMENTO PESSOAL'!$E$2:$P$92,45,FALSE) -> 0 | G31: =E31-F31 -> 0
D32: Padaria | E32: =HLOOKUP($C$2,'ORÇAMENTO PESSOAL'!$E$2:$P$92,46,FALSE) -> 0 | G32: =E32-F32 -> 0
D33: Outros | E33: =HLOOKUP($C$2,'ORÇAMENTO PESSOAL'!$E$2:$P$92,47,FALSE) -> 0 | G33: =E33-F33 -> 0
C34: Educação | D34: Mensalidade | E34: =HLOOKUP($C$2,'ORÇAMENTO PESSOAL'!$E$2:$P$92,48,FALSE) -> 0 | G34: =E34-F34 -> 0
D35: Transporte Escolar | E35: =HLOOKUP($C$2,'ORÇAMENTO PESSOAL'!$E$2:$P$92,49,FALSE) -> 0 | G35: =E35-F35 -> 0
D36: Outros | E36: =HLOOKUP($C$2,'ORÇAMENTO PESSOAL'!$E$2:$P$92,50,FALSE) -> 0 | G36: =E36-F36 -> 0
C37: Animais de Estimação | D37: Ração | E37: =HLOOKUP($C$2,'ORÇAMENTO PESSOAL'!$E$2:$P$92,51,FALSE) -> 0 | G37: =E37-F37 -> 0
D38: Banho/Tosa | E38: =HLOOKUP($C$2,'ORÇAMENTO PESSOAL'!$E$2:$P$92,52,FALSE) -> 0 | G38: =E38-F38 -> 0
D39: Veterinário/Plano Pet | E39: =HLOOKUP($C$2,'ORÇAMENTO PESSOAL'!$E$2:$P$92,53,FALSE) -> 0 | G39: =E39-F39 -> 0
C40: Outros | D40: Seguro de Vida | E40: =HLOOKUP($C$2,'ORÇAMENTO PESSOAL'!$E$2:$P$92,54,FALSE) -> 0 | G40: =E40-F40 -> 0
D41: Tarifas Bancárias | E41: =HLOOKUP($C$2,'ORÇAMENTO PESSOAL'!$E$2:$P$92,55,FALSE) -> 0 | G41: =E41-F41 -> 0
...

Sheet NOVEMBRO
A1: Acompanhamento Mensal
C2: NOVEMBRO | E2: Orçamento Previsto | F2: Gasto Atual | G2: Disponível | I2: RESUMO | K2: Orçamento Previsto | L2: Gasto Atual | M2: Disponível
A3: INVESTIMENTOS Insira aqui o montante mensal que você destinará aos seus investimentos. | D3: Meta 1 | E3: =HLOOKUP($C$2,'ORÇAMENTO PESSOAL'!$E$2:$P$92,16,FALSE) -> 0 | G3: =E3-F3 -> 0 | I3: Necessidades | K3: =E57 -> 0 | L3: =F57 -> 0 | M3: =K3-L3 -> 0
D4: Meta 2 | E4: =HLOOKUP($C$2,'ORÇAMENTO PESSOAL'!$E$2:$P$92,17,FALSE) -> 0 | G4: =E4-F4 -> 0 | I4: Vontades | K4: =E77 -> 0 | L4: =F77 -> 0 | M4: =K4-L4 -> 0
D5: Reserva de Emergência | E5: =HLOOKUP($C$2,'ORÇAMENTO PESSOAL'!$E$2:$P$92,18,FALSE) -> 0 | G5: =E5-F5 -> 0 | I5: Metas (Médio e Longo Prazo) | K5: =E3+E4+E7 -> 0 | L5: =F3+F4+F7 -> 0 | M5: =K5-L5 -> 0
D6: Aposentadoria/Independência Financeira | E6: =HLOOKUP($C$2,'ORÇAMENTO PESSOAL'!$E$2:$P$92,19,FALSE) -> 0 | G6: =E6-F6 -> 0 | I6: Reserva de Emergência | K6: =E5 -> 0 | L6: =F5 -> 0 | M6: =K6-L6 -> 0
D7: Outros | E7: =HLOOKUP($C$2,'ORÇAMENTO PESSOAL'!$E$2:$P$92,20,FALSE) -> 0 | G7: =E7-F7 -> 0 | I7: Aposentadoria/Independência Fin. | K7: =E6 -> 0 | L7: =F6 -> 0 | M7: =K7-L7 -> 0
D8: Total | E8: =SUM(E3:E7) -> 0 | F8: =SUM(F3:F7) -> 0 | G8: =SUM(G3:G7) -> 0 | I8: Total | K8: =SUM(K3:K7) -> 0 | L8: =SUM(L3:L7) -> 0 | M8: =K8-L8 -> 0
A10: NECESSIDADES / ESSENCIAIS | B10: DESPESAS FIXAS Aquelas que têm o mesmo valor mensalmente. e DESPESAS VARIÁVEIS Aquelas que acontecem todos os meses, podem variar de valor e podemos tentar reduzir. | C10: Habitação | D10: Aluguel | E10: =HLOOKUP($C$2,'ORÇAMENTO PESSOAL'!$E$2:$P$92,24,FALSE) -> 0 | G10: =E10-F10 -> 0
D11: Condomínio | E11: =HLOOKUP($C$2,'ORÇAMENTO PESSOAL'!$E$2:$P$92,25,FALSE) -> 0 | G11: =E11-F11 -> 0
